BEGIN:VCALENDAR
PRODID:NingEventWidget-v1
VERSION:2.0
METHOD:PUBLISH
BEGIN:VTIMEZONE
TZID:Pacific/Midway
X-LIC-LOCATION:Pacific/Midway
BEGIN:STANDARD
TZOFFSETFROM:-1100
TZOFFSETTO:-1100
TZNAME:SST
DTSTART:19700101T000000
END:STANDARD
END:VTIMEZONE
BEGIN:VEVENT
UID:3646443:Event:106118
DTSTAMP:20260421T024932Z
SUMMARY:Ag Safety Week
DESCRIPTION:The Canadian Agricultural Safety Association (CASA) is cel
 ebrating Canadian Agricultural Safety Week from March 14 – March 20,
  2021. CASA has developed an AgriSafe Ribbon campaign to raise awarene
 ss and share the importance of farm safety with your community. CASA, 
 in cooperation with their sponsor, Farm Credit Canada, is asking all C
 anadians to share the virtual AgSafe ribbon in support of Safe & Stro
 ng Farms.\r\nWant to know how you can participate?\r\nDuring Ag Safety
  Week share this ribbon on your social pages to promote safety in Cana
 dian Ag! Use it to start discussions with friends, family and neighbou
 rs and encourage those around you to promote safe and strong farms. De
 clare yourself a farm safety champion and tell your store about why fa
 rm safety is important to you.\r\n\n\nFor more information visit https
 ://ontag.farms.com/events/ag-safety-week
DTSTART;TZID=Pacific/Midway:20210314T180000
DTEND;TZID=Pacific/Midway:20210320T190000
CATEGORIES:virtual, agsafe, event
LOCATION:online
WEBSITE:https://www.casa-acsa.ca/en/canadian-agricultural-safety-week/
URL:https://www.casa-acsa.ca/en/canadian-agricultural-safety-week/
CONTACT:(877) 452-2272
ORGANIZER:Canadian Agricultural Safety Association (CASA)
ATTACH;FMTTYPE="image/jpeg":
ATTENDEE;ROLE=REQ-PARTICIPANT;PARTSTAT=ACCEPTED;RSVP=TRUE;CN="OntAG Ad
 min":https://ontag.farms.com/profile/OntAGAdmin
END:VEVENT
END:VCALENDAR
