BEGIN:VCALENDAR
PRODID:NingEventWidget-v1
VERSION:2.0
METHOD:PUBLISH
BEGIN:VTIMEZONE
TZID:Pacific/Midway
X-LIC-LOCATION:Pacific/Midway
BEGIN:STANDARD
TZOFFSETFROM:-1100
TZOFFSETTO:-1100
TZNAME:SST
DTSTART:19700101T000000
END:STANDARD
END:VTIMEZONE
BEGIN:VEVENT
UID:3646443:Event:33564
DTSTAMP:20260422T004751Z
SUMMARY:Ag-venture tour to Ireland
DESCRIPTION:When you arrive in Dublin, you can’t help but become a l
 ittle bit Irish. So kick off with fun-packed traditional Irish music, 
 dances and dinner at the Arlington Hotel. Next day, you’re ready to 
 head west to the Irish National Stud & Japanese Gardens in County Kild
 are, famous as Ireland’s foremost horse racing region.  Then on to 
 Kilkenny where we stay for three nights. This city boasts a rich medie
 val heritage and landmarks like the magnificent Kilkenny Castle.  We
 re also in a heartland of farming so will visit potato, cropping and
  other active farms. In neighbouring County Wexford, we visit Johnstow
 n Castle Research Centre and adjoining Irish Agricultural Museum follo
 wed by a visit to nearby Carrigbyrne Farm and Cheese Company. \nThe h
 arbour town of Kinsale in County Cork is considered the ‘Gourmet Cap
 ital of Ireland’ with many lively pubs, great restaurants and intere
 sting shops and galleries. It is close to Cobh, home of the Heritage C
 entre. Cobh was the last port of call for the ill-fated Titanic and th
 e port of embarkation for over 2.5 million people who emigrated to Nor
 th America around the time of the famine.    Then on to the village
  of Bunratty.  From this base, we visit Rathlahine Farm in the nearby
  town of Newmarket-on-Fergus for a dairy tour & farm lunch. Bunratty C
 astle & Folk Park is a “must see” and we’ll dine without utensil
 s at the renowned Bunratty Medieval Banquet with typical Irish enterta
 inment. Don’t miss Durty Nelly’s, probably Ireland’s most famous
  pub, where there is usually a lively music session in full swing.  W
 e’ll spend a day at the farm show near Charleville, and then head to
  the starkly beautiful west coast to visit the spectacular Cliffs of M
 oher Continue north along the coast into the unique landscape of The B
 urren, an area composed of limestone hills. Cross country through the 
 Midlands to Navan is a beautiful drive and takes us to the megalithic 
 stone work of Newgrange. The tombs predate the Pyramids of Egypt and a
 re now one of Ireland’s most visited attractions. This is another ke
 y agricultural area so more farm visits are planned. Finally, back to 
 Dublin.  The hop-on-hop-off Bus gives you a narrated tour of the city
  enabling each person to decide which of the many major city attractio
 ns they would like to visit during your final free day. You’ll retur
 n home with the luck of the Irish in your pocket.\n\nFor more informat
 ion visit https://ontag.farms.com/events/ag-venture-tour-to-ireland
DTSTART;TZID=Pacific/Midway:20130622T000000
DTEND;TZID=Pacific/Midway:20130704T235900
CATEGORIES:agricultural, tour
LOCATION:Ireland
WEBSITE:http://www.rwthomastours.com
URL:http://www.rwthomastours.com
CONTACT:519 633-2390
ORGANIZER;CN="Bob Thomas":https://ontag.farms.com/profile/BobThomas514
ATTACH;FMTTYPE="image/jpeg":http://storage.ning.com/topology/rest/1.0/
 file/get/1091522069?profile=original
ATTENDEE;ROLE=REQ-PARTICIPANT;PARTSTAT=ACCEPTED;RSVP=TRUE;CN="Bob Thom
 as":https://ontag.farms.com/profile/BobThomas514
END:VEVENT
END:VCALENDAR
