BEGIN:VCALENDAR
PRODID:NingEventWidget-v1
VERSION:2.0
METHOD:PUBLISH
BEGIN:VTIMEZONE
TZID:Pacific/Midway
X-LIC-LOCATION:Pacific/Midway
BEGIN:STANDARD
TZOFFSETFROM:-1100
TZOFFSETTO:-1100
TZNAME:SST
DTSTART:19700101T000000
END:STANDARD
END:VTIMEZONE
BEGIN:VEVENT
UID:3646443:Event:4374
DTSTAMP:20260421T092612Z
SUMMARY:AGCARE and Ontario Farm Animal Council Annual Meeting
DESCRIPTION:Ontario Farm Animal Council & AGCare\n2010 Annual Meeting 
 & Speakers’ Program\n\nFor more information visit https://ontag.farm
 s.com/events/agcare-and-ontario-farm-animal
DTSTART;TZID=Pacific/Midway:20100408T090000
DTEND;TZID=Pacific/Midway:20100408T160000
CATEGORIES:meeting
LOCATION:Guelph Place
WEBSITE:http://www.ofac.org/annual_meeting/docs/2010-AGM-Info.pdf
URL:http://www.ofac.org/annual_meeting/docs/2010-AGM-Info.pdf
CONTACT:
ORGANIZER:Ontario Farm Animal Council
ATTACH;FMTTYPE="image/jpeg":
ATTENDEE;ROLE=REQ-PARTICIPANT;PARTSTAT=ACCEPTED;RSVP=TRUE;CN="OntAG Ad
 min":https://ontag.farms.com/profile/OntAGAdmin
END:VEVENT
END:VCALENDAR
