BEGIN:VCALENDAR
PRODID:NingEventWidget-v1
VERSION:2.0
METHOD:PUBLISH
BEGIN:VTIMEZONE
TZID:Pacific/Midway
X-LIC-LOCATION:Pacific/Midway
BEGIN:STANDARD
TZOFFSETFROM:-1100
TZOFFSETTO:-1100
TZNAME:SST
DTSTART:19700101T000000
END:STANDARD
END:VTIMEZONE
BEGIN:VEVENT
UID:3646443:Event:75175
DTSTAMP:20260421T235841Z
SUMMARY:Agri-Food Innovation Summit
DESCRIPTION:Highlights of the day include:\r\n\r\nPresentations focuse
 d on research and innovation; and\r\nNetworking opportunities with key
  industry stakeholders in order to foster collaboration and share info
 rmation.\r\n\r\nBe among key industry stakeholders, experts in agricul
 tural research, entrepreneurs and members of the broader scientific co
 mmunity.  The Summit is part one of a two-day event where AIC represe
 ntatives, government relations specialists and our partners will meet 
 with elected representatives, senior political staff and bureaucrats.\
 r\nClick here for online registration \r\nTo view the draft agenda, c
 lick here.\r\nClick here to view Partnership Opportunities\n\nFor more
  information visit https://ontag.farms.com/events/agri-food-innovation
 -summit
DTSTART;TZID=Pacific/Midway:20190513T074500
DTEND;TZID=Pacific/Midway:20190513T173000
CATEGORIES:summit
LOCATION:Hilton Garden Inn
WEBSITE:
URL:
CONTACT:
ORGANIZER:Agricultural Institute of Canada
ATTACH;FMTTYPE="image/jpeg":https://storage.ning.com/topology/rest/1.0
 /file/get/919394620?profile=original
ATTENDEE;ROLE=REQ-PARTICIPANT;PARTSTAT=ACCEPTED;RSVP=TRUE;CN="OntAG Ad
 min":https://ontag.farms.com/profile/OntAGAdmin
END:VEVENT
END:VCALENDAR
