BEGIN:VCALENDAR
PRODID:NingEventWidget-v1
VERSION:2.0
METHOD:PUBLISH
BEGIN:VTIMEZONE
TZID:Pacific/Midway
X-LIC-LOCATION:Pacific/Midway
BEGIN:STANDARD
TZOFFSETFROM:-1100
TZOFFSETTO:-1100
TZNAME:SST
DTSTART:19700101T000000
END:STANDARD
END:VTIMEZONE
BEGIN:VEVENT
UID:3646443:Event:78269
DTSTAMP:20260419T181236Z
SUMMARY:Agri Food Ski Day
DESCRIPTION:Join on February 13, 2020 for the 20th Annual Agri-Food Sk
 i Day at  Osler Bluff Ski Club Ltd, The Blue Mountain. It is a day of
  winter fun to celebrate Ontario’s agriculture and food industry and
  raise money for Ronald McDonald House Charities. Over the past sevent
 een years Agri-food Ski Day participants have contributed over $30,000
 .00 dollars through 50/50 draws and silent auctions to Ronald McDonald
  House Charities.\r\nRonald McDonald House Charities South Central Ont
 ario (RMCHSCO) serves as a regional resource for hundreds of families 
 of critically-ill children who are being treated at local hospitals.\n
 \nFor more information visit https://ontag.farms.com/events/agri-food-
 ski-day
DTSTART;TZID=Pacific/Midway:20200213T080000
DTEND;TZID=Pacific/Midway:20200213T170000
CATEGORIES:winter, fun
LOCATION:Ontario’s Premier Ski Club
WEBSITE:https://agri-foodskiday.ca/
URL:https://agri-foodskiday.ca/
CONTACT:
ORGANIZER:OFA Canada
ATTACH;FMTTYPE="image/jpeg":
ATTENDEE;ROLE=REQ-PARTICIPANT;PARTSTAT=ACCEPTED;RSVP=TRUE;CN="OntAG Ad
 min":https://ontag.farms.com/profile/OntAGAdmin
END:VEVENT
END:VCALENDAR
