BEGIN:VCALENDAR
PRODID:NingEventWidget-v1
VERSION:2.0
METHOD:PUBLISH
BEGIN:VTIMEZONE
TZID:Pacific/Midway
X-LIC-LOCATION:Pacific/Midway
BEGIN:STANDARD
TZOFFSETFROM:-1100
TZOFFSETTO:-1100
TZNAME:SST
DTSTART:19700101T000000
END:STANDARD
END:VTIMEZONE
BEGIN:VEVENT
UID:3646443:Event:60635
DTSTAMP:20260424T074532Z
SUMMARY:Agri Investment Forum 2015
DESCRIPTION:Agri Innovation.Â  Growth Capital.Â  Global Opportunity\nÂ
  \nThe Agri Investment Forum is the only program of events in Canada d
 edicated to showcasing the highest potential emerging and growth stage
  agri-businesses. The Forum brings together active institutional and p
 rivate investors with leading edge entrepreneurs and commercialization
  professionals. The Agri Investment Forum is an annual conference that
  promotes constructive deal flow between Canadian agri-entrepreneurs a
 nd investors from across North America.\nÂ \nThe Agri Investment Forum
  brings together entrepreneurs, investors, corporate strategics, comme
 rcialization professionals and thought leaders within what is arguably
  the highest potential emerging global industry - an industry position
 ed at the intersection of some of the worldâ€™s most compelling challe
 nges.\nÂ \nThe Agri Investment Forum is a must attend event for agri-b
 usiness executives, entrepreneurs, institutional and private investors
 , commercialization and technology transfer professionals, and policy 
 makers from the agriculture sector.Â Â Mark your calendar for the Agri
  Investment Forum on June 3 & 4, 2015 at The Delta Chelsea Hotel in To
 ronto.Â Relevant industry sub-sectors include:\nÂ \nBio Industrial Pro
 ducts\nDesalination & Waste Water Treatment\nAgricultural Waste Manage
 ment\nForestry Products & Management\nCrop Science & Yield Optimizatio
 n\nNutraceuticals & Functional Foods\nBiofuels, Renewable Feedstocks &
  Renewable Energy\nBio Pesticides & Bio Herbicides\nAeroponics & Aquac
 ulture\nPlease download our:Agri Investment Forum 2014 - Event Program
 \n\nFor more information visit https://ontag.farms.com/events/agri-inv
 estment-forum-2015
DTSTART;TZID=Pacific/Midway:20150603T000000
DTEND;TZID=Pacific/Midway:20150604T235900
CATEGORIES:agri, investment, forum
LOCATION:Eaton Chelsea Hotel, Toronto
WEBSITE:http://www.agri-investmentforum.com/
URL:http://www.agri-investmentforum.com/
CONTACT:
ORGANIZER:Critical Path Group
ATTACH;FMTTYPE="image/jpeg":http://storage.ning.com/topology/rest/1.0/
 file/get/1091539235?profile=original
ATTENDEE;ROLE=REQ-PARTICIPANT;PARTSTAT=ACCEPTED;RSVP=TRUE;CN="OntAG Ad
 min":https://ontag.farms.com/profile/OntAGAdmin
END:VEVENT
END:VCALENDAR
