BEGIN:VCALENDAR
PRODID:NingEventWidget-v1
VERSION:2.0
METHOD:PUBLISH
BEGIN:VTIMEZONE
TZID:Pacific/Midway
X-LIC-LOCATION:Pacific/Midway
BEGIN:STANDARD
TZOFFSETFROM:-1100
TZOFFSETTO:-1100
TZNAME:SST
DTSTART:19700101T000000
END:STANDARD
END:VTIMEZONE
BEGIN:VEVENT
UID:3646443:Event:74991
DTSTAMP:20260422T114404Z
SUMMARY:AGRI Tech Venture Forum
DESCRIPTION:The AGRI Tech Venture Forum is an annual event that serves
  as a converging point for the global ag tech elite. Industry giants, 
 investors, accelerators, and innovators provide insight on the latest 
 sector headwinds, technology milestones, and key challenges facing the
  future of ag tech.\n\nFor more information visit https://ontag.farms.
 com/events/agri-tech-venture-forum
DTSTART;TZID=Pacific/Midway:20190515T000000
DTEND;TZID=Pacific/Midway:20190515T235900
CATEGORIES:forum
LOCATION:Marriott Downtown CF Toronto Eaton Centre
WEBSITE:https://agritechventureforum.com/
URL:https://agritechventureforum.com/
CONTACT:(587) 224-9394
ORGANIZER:AGRI Tech Venture Forum
ATTACH;FMTTYPE="image/jpeg":https://storage.ning.com/topology/rest/1.0
 /file/get/1442359862?profile=original
ATTENDEE;ROLE=REQ-PARTICIPANT;PARTSTAT=ACCEPTED;RSVP=TRUE;CN="OntAG Ad
 min":https://ontag.farms.com/profile/OntAGAdmin
END:VEVENT
END:VCALENDAR
