BEGIN:VCALENDAR
PRODID:NingEventWidget-v1
VERSION:2.0
METHOD:PUBLISH
BEGIN:VTIMEZONE
TZID:Pacific/Midway
X-LIC-LOCATION:Pacific/Midway
BEGIN:STANDARD
TZOFFSETFROM:-1100
TZOFFSETTO:-1100
TZNAME:SST
DTSTART:19700101T000000
END:STANDARD
END:VTIMEZONE
BEGIN:VEVENT
UID:3646443:Event:53522
DTSTAMP:20260421T182616Z
SUMMARY:Agricultural Institute of Canada Dinner
DESCRIPTION:The Agricultural Institute of Canada invites everyone to 
 attend their first annual Ottawa dinner. Enjoy good conversation and t
 wo enlightening presentations on agricultural research in Canada, feat
 uring:\nPierre Lemieux, Parliamentary Secretary to the Minister of Agr
 iculture and Agri-Food Canada Pierre Charest, Vice-President, Research
  Grants and Scholarships, Natural Sciences and Engineering Research Co
 uncil of Canada\nDr. Lianne Dwyer, AIC Chair, will host and share the 
 Institute's vision and objectives.\nDinner tickets are $75.00 plus HST
 .\nEveryone with an interest in ag research is most welcome to attend!
 \nRegister for dinner here.\nFor further information call Ellen at the
  AIC office, 613.232.9459, ext. 307 (toll-free 1.888.277.7980. ext. 30
 7).\n\nFor more information visit https://ontag.farms.com/events/agric
 ultural-institute-of-canada-dinner
DTSTART;TZID=Pacific/Midway:20140611T180000
DTEND;TZID=Pacific/Midway:20140611T210000
CATEGORIES:dinner, speakers
LOCATION:Marriott Hotel
WEBSITE:https://www.google.com/maps/place/Ottawa+Marriott+Hotel/@45.41
 9766,-75.7035,17z/data=!3m1!4b1!4m2!3m1!1s0x4cce045427901021:0x15d1695
 cacf9a50c
URL:https://www.google.com/maps/place/Ottawa+Marriott+Hotel/@45.419766
 ,-75.7035,17z/data=!3m1!4b1!4m2!3m1!1s0x4cce045427901021:0x15d1695cacf
 9a50c
CONTACT:613.232.9459. ext, 307
ORGANIZER:Serge Buy, CEO
ATTACH;FMTTYPE="image/jpeg":http://storage.ning.com/topology/rest/1.0/
 file/get/1091523971?profile=original
ATTENDEE;ROLE=REQ-PARTICIPANT;PARTSTAT=ACCEPTED;RSVP=TRUE;CN="Frances 
 Rodenburg":https://ontag.farms.com/profile/FrancesRodenburg
END:VEVENT
END:VCALENDAR
