BEGIN:VCALENDAR
PRODID:NingEventWidget-v1
VERSION:2.0
METHOD:PUBLISH
BEGIN:VTIMEZONE
TZID:Pacific/Midway
X-LIC-LOCATION:Pacific/Midway
BEGIN:STANDARD
TZOFFSETFROM:-1100
TZOFFSETTO:-1100
TZNAME:SST
DTSTART:19700101T000000
END:STANDARD
END:VTIMEZONE
BEGIN:VEVENT
UID:3646443:Event:35549
DTSTAMP:20260422T180111Z
SUMMARY:Agriculture Going Global Workshops
DESCRIPTION:Contact: Jason Istead Project Coordinator Agricultural Man
 agement Institutejason@takeanewapproach.ca\n\nFor more information vis
 it https://ontag.farms.com/events/agriculture-going-global-workshops
DTSTART;TZID=Pacific/Midway:20121211T090000
DTEND;TZID=Pacific/Midway:20121211T160000
CATEGORIES:workshops
LOCATION:University of Guelph, University Centre, Rm.
WEBSITE:
URL:
CONTACT:519-822-6618
ORGANIZER;CN="OntAG Admin":https://ontag.farms.com/profile/OntAGAdmin
ATTACH;FMTTYPE="image/jpeg":
ATTENDEE;ROLE=REQ-PARTICIPANT;PARTSTAT=ACCEPTED;RSVP=TRUE;CN="OntAG Ad
 min":https://ontag.farms.com/profile/OntAGAdmin
END:VEVENT
END:VCALENDAR
