BEGIN:VCALENDAR
PRODID:NingEventWidget-v1
VERSION:2.0
METHOD:PUBLISH
BEGIN:VTIMEZONE
TZID:Pacific/Midway
X-LIC-LOCATION:Pacific/Midway
BEGIN:STANDARD
TZOFFSETFROM:-1100
TZOFFSETTO:-1100
TZNAME:SST
DTSTART:19700101T000000
END:STANDARD
END:VTIMEZONE
BEGIN:VEVENT
UID:3646443:Event:73788
DTSTAMP:20260422T231242Z
SUMMARY:Agriculture Innovation Showcase
DESCRIPTION:The Township of Woolwich, OMAFRA and the University of Gue
 lph would like to invite you to the second annual Agriculture Innovati
 on Showcase. This year’s showcase features a robot demonstration by 
 the Elmira District Secondary School Robotics team, who placed second 
 overall North American wide. The team is building a robot for a local 
 crab apple farmer located in Wellesley. The tour also features stops a
 t the Dirksen Dairy farm in Alma and research facility tours at the Un
 iversity of Guelph.\n \nTransportation to all tour sites is included 
 along with a full hot buffet breakfast and a locally sourced lunch at 
 Apple Flats Orchards.\n \nFor more information on the event please vi
 sit  https://bit.ly/2NrBqVK.\n \n\nFor more information visit https:
 //ontag.farms.com/events/agriculture-innovation-showcase
DTSTART;TZID=Pacific/Midway:20181023T073000
DTEND;TZID=Pacific/Midway:20181023T160000
CATEGORIES:farm, tour
LOCATION:University of Guelph
WEBSITE:https://www.eventbrite.ca/e/agriculture-innovation-showcase-20
 -tickets-47314450796
URL:https://www.eventbrite.ca/e/agriculture-innovation-showcase-20-tic
 kets-47314450796
CONTACT:5196696020
ORGANIZER;CN="Township of Woolwich":https://ontag.farms.com/profile/To
 wnshipofWoolwich
ATTACH;FMTTYPE="image/jpeg":http://storage.ning.com/topology/rest/1.0/
 file/get/1091549627?profile=original
ATTENDEE;ROLE=REQ-PARTICIPANT;PARTSTAT=ACCEPTED;RSVP=TRUE;CN="Township
  of Woolwich":https://ontag.farms.com/profile/TownshipofWoolwich
END:VEVENT
END:VCALENDAR
