BEGIN:VCALENDAR
PRODID:NingEventWidget-v1
VERSION:2.0
METHOD:PUBLISH
BEGIN:VTIMEZONE
TZID:Pacific/Midway
X-LIC-LOCATION:Pacific/Midway
BEGIN:STANDARD
TZOFFSETFROM:-1100
TZOFFSETTO:-1100
TZNAME:SST
DTSTART:19700101T000000
END:STANDARD
END:VTIMEZONE
BEGIN:VEVENT
UID:3646443:Event:3657
DTSTAMP:20260422T143005Z
SUMMARY:Agri-Food Ski Day
DESCRIPTION:Join us on Thursday February 18th for the 10th Annual Grea
 t Winter Fun AGRI-FOOD SKI Day at Ontario’s Premier Ski Club, Osler 
 Bluffs, Collingwood. It is a day of winter fun to celebrate Ontario’
 s agriculture and food industry and raise money for Ronald McDonald Ho
 use Charities.\n\nFor more information visit https://ontag.farms.com/e
 vents/agrifood-ski-day
DTSTART;TZID=Pacific/Midway:20100218T000000
DTEND;TZID=Pacific/Midway:20100218T235900
CATEGORIES:fundraiser
LOCATION:Osler Bluffs, Collingwood
WEBSITE:http://www.agri-foodskiday.ca/
URL:http://www.agri-foodskiday.ca/
CONTACT:(519) 821-8883 ext. 204
ORGANIZER:Committee
ATTACH;FMTTYPE="image/jpeg":http://storage.ning.com/topology/rest/1.0/
 file/get/1091501792?profile=original
ATTENDEE;ROLE=REQ-PARTICIPANT;PARTSTAT=ACCEPTED;RSVP=TRUE;CN="Richard 
 Hamilton":https://ontag.farms.com/profile/RichardHamilton
END:VEVENT
END:VCALENDAR
