BEGIN:VCALENDAR
PRODID:NingEventWidget-v1
VERSION:2.0
METHOD:PUBLISH
BEGIN:VTIMEZONE
TZID:Pacific/Midway
X-LIC-LOCATION:Pacific/Midway
BEGIN:STANDARD
TZOFFSETFROM:-1100
TZOFFSETTO:-1100
TZNAME:SST
DTSTART:19700101T000000
END:STANDARD
END:VTIMEZONE
BEGIN:VEVENT
UID:3646443:Event:6637
DTSTAMP:20260420T023604Z
SUMMARY:Agri-Investment Symposium
DESCRIPTION:The first Agri-Investment Symposium was held in Toronto in
  March 2010 where 8 agri-based companies were provided with the opport
 unity to pitch their innovative business venture to 20 potential inves
 tors. Post-event evaluation results showed high levels of participant 
 satisfaction with 50% of presenting companies and 53% of investors eit
 her entering into a business deal or potentially entering into a busin
 ess deal as a result of the Symposium.\n\nAny entrepreneurs interested
  in presenting their agri-business venture to potential investors in S
 askatoon must submit a formal \"Request to Present\" to AAFC by Septem
 ber 30, 2010. (**Change from Sept 15th)\n\nFurther information and ins
 tructions for agri-entrepreneurs and for investors are available at ww
 w.agr.gc.ca/agri-symposium.\n\nFor more information visit https://onta
 g.farms.com/events/agriinvestment-symposium
DTSTART;TZID=Pacific/Midway:20101108T000000
DTEND;TZID=Pacific/Midway:20101109T235900
CATEGORIES:symposium
LOCATION:SK
WEBSITE:http://www.agr.gc.ca/agri-symposium
URL:http://www.agr.gc.ca/agri-symposium
CONTACT:
ORGANIZER:AAFC
ATTACH;FMTTYPE="image/jpeg":http://storage.ning.com/topology/rest/1.0/
 file/get/1091503593?profile=original
ATTENDEE;ROLE=REQ-PARTICIPANT;PARTSTAT=ACCEPTED;RSVP=TRUE;CN=AgOntario
 :https://ontag.farms.com/profile/AgOntario
END:VEVENT
END:VCALENDAR
