BEGIN:VCALENDAR
PRODID:NingEventWidget-v1
VERSION:2.0
METHOD:PUBLISH
BEGIN:VTIMEZONE
TZID:Pacific/Midway
X-LIC-LOCATION:Pacific/Midway
BEGIN:STANDARD
TZOFFSETFROM:-1100
TZOFFSETTO:-1100
TZNAME:SST
DTSTART:19700101T000000
END:STANDARD
END:VTIMEZONE
BEGIN:VEVENT
UID:3646443:Event:77272
DTSTAMP:20260419T125435Z
SUMMARY:AgriTech Hackathon
DESCRIPTION:Bringing together individuals, businesses and educational 
 institutions for a three day event to find solutions to challenges for
  the agriculture and ecotourism sectors.\r\nWhat is an AGRITECH HACKAT
 HON?\r\nA hackathon is an event that fosters innovation and collaborat
 ion with the goal of expanding technology development. Current challen
 ges in the agricultural industry are identified and tech solutions are
  proposed. Multiple teams will be asked to find probable solutions to 
 a series of given challenges for the agriculture and eco- tourism sect
 ors.\r\nThe AgriTech Hackathon is designed to not only help solve prob
 lems, but enable a connection and conversation between our rural and u
 rban communities.\r\nfor more information mail to: info@agritechhacka
 thon.ca  for event schedule please click here\n\nFor more information 
 visit https://ontag.farms.com/events/agritech-hackathon
DTSTART;TZID=Pacific/Midway:20191018T080000
DTEND;TZID=Pacific/Midway:20191020T210000
CATEGORIES:seminar
LOCATION:Beamsville District Secondary School
WEBSITE:http://agritechhackathon.ca
URL:http://agritechhackathon.ca
CONTACT:
ORGANIZER:Town of Lincoln / Spark
ATTACH;FMTTYPE="image/jpeg":
ATTENDEE;ROLE=REQ-PARTICIPANT;PARTSTAT=ACCEPTED;RSVP=TRUE;CN="OntAG Ad
 min":https://ontag.farms.com/profile/OntAGAdmin
END:VEVENT
END:VCALENDAR
