BEGIN:VCALENDAR
PRODID:NingEventWidget-v1
VERSION:2.0
METHOD:PUBLISH
BEGIN:VTIMEZONE
TZID:Pacific/Midway
X-LIC-LOCATION:Pacific/Midway
BEGIN:STANDARD
TZOFFSETFROM:-1100
TZOFFSETTO:-1100
TZNAME:SST
DTSTART:19700101T000000
END:STANDARD
END:VTIMEZONE
BEGIN:VEVENT
UID:3646443:Event:10063
DTSTAMP:20260424T074540Z
SUMMARY:AGRIWEBINAR Elaine Froese: Do the Tough Things Right
DESCRIPTION:Live! Monday February 14 @ 12PM ESTElaine Froese presents:
 Do the Tough Things RightThe session outcomes for this webinar will in
 clude: working knowledge of the key challenges audit: fairness, financ
 es, fulfillment, family codes of conduct and failure;points of resista
 nce in client's head, heart and gut; knowing how to express intent, cu
 riosity and common interest to navigate conflict; and insight on how t
 o start the tough conversations around succession issues\n\nFor more i
 nformation visit https://ontag.farms.com/events/agriwebinar-elaine-fro
 ese-do
DTSTART;TZID=Pacific/Midway:20110214T120000
DTEND;TZID=Pacific/Midway:20110214T130000
CATEGORIES:webinar
LOCATION:online - on your computer!
WEBSITE:http://www.agrivebinar.com
URL:http://www.agrivebinar.com
CONTACT:
ORGANIZER:CFBMC
ATTACH;FMTTYPE="image/jpeg":http://storage.ning.com/topology/rest/1.0/
 file/get/1091510284?profile=original
ATTENDEE;ROLE=REQ-PARTICIPANT;PARTSTAT=ACCEPTED;RSVP=TRUE;CN="OntAG Ad
 min":https://ontag.farms.com/profile/OntAGAdmin
END:VEVENT
END:VCALENDAR
