BEGIN:VCALENDAR
PRODID:NingEventWidget-v1
VERSION:2.0
METHOD:PUBLISH
BEGIN:VTIMEZONE
TZID:Pacific/Midway
X-LIC-LOCATION:Pacific/Midway
BEGIN:STANDARD
TZOFFSETFROM:-1100
TZOFFSETTO:-1100
TZNAME:SST
DTSTART:19700101T000000
END:STANDARD
END:VTIMEZONE
BEGIN:VEVENT
UID:3646443:Event:59312
DTSTAMP:20260423T153311Z
SUMMARY:Agriwebinar: FCC Presents: A 2014 Look at Global Trade
DESCRIPTION:FCC Presents: A 2014 Look at Global Trade\nHear FCC Chief 
 Agricultural Economist J.P. Gervais explain the new opportunities in d
 eveloped and emerging markets. He’ll also talk about the economic fa
 ctors driving the competitiveness of the agriculture and agri-food sys
 tem globally and what it means for Canada.View Webinar \n\nJean-Phili
 ppe Gervais Chief Agricultural EconomistFCC\n\n\n\n\n\n\n\n\nFor more
  information visit https://ontag.farms.com/events/agriwebinar-fcc-pres
 ents-a-2014-look-at-global-trade
DTSTART;TZID=Pacific/Midway:20141215T120000
DTEND;TZID=Pacific/Midway:20141215T130000
CATEGORIES:webinar
LOCATION:on your computer
WEBSITE:http://agriwebinar.com/Preview.aspx?id=1d99c7e0-fc00-47d1-89aa
 -563a4661ffb5
URL:http://agriwebinar.com/Preview.aspx?id=1d99c7e0-fc00-47d1-89aa-563
 a4661ffb5
CONTACT:
ORGANIZER:Farm Management Canada
ATTACH;FMTTYPE="image/jpeg":http://storage.ning.com/topology/rest/1.0/
 file/get/1091533546?profile=original
ATTENDEE;ROLE=REQ-PARTICIPANT;PARTSTAT=ACCEPTED;RSVP=TRUE;CN="OntAG Ad
 min":https://ontag.farms.com/profile/OntAGAdmin
END:VEVENT
END:VCALENDAR
