BEGIN:VCALENDAR
PRODID:NingEventWidget-v1
VERSION:2.0
METHOD:PUBLISH
BEGIN:VTIMEZONE
TZID:Pacific/Midway
X-LIC-LOCATION:Pacific/Midway
BEGIN:STANDARD
TZOFFSETFROM:-1100
TZOFFSETTO:-1100
TZNAME:SST
DTSTART:19700101T000000
END:STANDARD
END:VTIMEZONE
BEGIN:VEVENT
UID:3646443:Event:77496
DTSTAMP:20260421T154407Z
SUMMARY:Agriwebinar: National Farm Leadership Program Q&A
DESCRIPTION:Join to learn about Farm Management Canada's new National 
 Farm Leadership Program designed for busy farmers and ag professionals
  who want to improve their personal and professional effectiveness.\r\
 nFew of us consider our own leadership as a competitive advantage. How
 ever, research shows that leadership impacts every dimension of perfor
 mance, including the well-being of the leader and those they work with
 . Canada already has some of the best farm managers in the world; incr
 easing our leadership effectiveness is the next step to stay on top.\r
 \nKelly will highlight the benefits of focusing on leader effectivenes
 s and unique program features that help farmers identify the critical 
 development areas that will have the greatest impact on their personal
  and professional lives and help build the capacity to achieve more of
  what matters.\r\nKelly Dobson is a certified executive coach, fourth-
 generation farmer and Chief Leadership Officer for LeaderShift Inc.Cli
 ck here to register for this webinar. \r\nClick here if you’ve alrea
 dy registered and wish to log into the webinar (webinar access becomes
  available 30 minutes prior to start time.)\r\n\n\nFor more informatio
 n visit https://ontag.farms.com/events/agriwebinar-national-farm-leade
 rship-program-q-a
DTSTART;TZID=Pacific/Midway:20191022T120000
DTEND;TZID=Pacific/Midway:20191022T130000
CATEGORIES:webinar
LOCATION:250 City Centre Avenue
WEBSITE:https://fmc-gac.adobeconnect.com/nflp-qa/event/event_info.html
 ?campaign-id=FMC+2
URL:https://fmc-gac.adobeconnect.com/nflp-qa/event/event_info.html?cam
 paign-id=FMC+2
CONTACT:613-237-9060 or toll-free 1-888-232-3262
ORGANIZER:Farm Management Canada
ATTACH;FMTTYPE="image/jpeg":
ATTENDEE;ROLE=REQ-PARTICIPANT;PARTSTAT=ACCEPTED;RSVP=TRUE;CN="OntAG Ad
 min":https://ontag.farms.com/profile/OntAGAdmin
END:VEVENT
END:VCALENDAR
