BEGIN:VCALENDAR
PRODID:NingEventWidget-v1
VERSION:2.0
METHOD:PUBLISH
BEGIN:VTIMEZONE
TZID:Pacific/Midway
X-LIC-LOCATION:Pacific/Midway
BEGIN:STANDARD
TZOFFSETFROM:-1100
TZOFFSETTO:-1100
TZNAME:SST
DTSTART:19700101T000000
END:STANDARD
END:VTIMEZONE
BEGIN:VEVENT
UID:3646443:Event:28264
DTSTAMP:20260424T105928Z
SUMMARY:Agriwebinar® - Online @ NOON - Emotional Intelligence - Emoti
 ons at the heart of farm management
DESCRIPTION:2011 Upcoming Agriwebinars – Canadian Farm Business Mana
 gement Council\n23/11/2011 FCC Presents: Emotional Intelligence - Emot
 ions at the heart of farm management It is not enough to have the know
 ledge or skill to be a successful farm manager. It is also necessary t
 o be emotionally competent.\nPierrette Desrosiers Psychologist, Consul
 tations Pierrette Desrosiers\n28/11/2011 Traceability - What You Need 
 to Know & What's Happening Businesses along the entire food chain stri
 ve hard to brand themselves as providing safe, healthy food. At the sa
 me time, public health, food safety, animal welfare, and sustainabilit
 y are combining to drive the demand for food traceability as a critica
 l tool. Transparency about the origins of food and having systems that
  can prove a food's origins are becoming key policy imperatives and ar
 e already mandatory in many countries.\nBrian Sterling Chief Executive
  Officer, OnTrace Agri-food Traceability\n30/11/2011 How do I get it a
 ll done?! The art of prioritizing and time management Practical tips t
 hat will help producers be more efficient and effective in their daily
  management (\"to do\" list, \"stop doing\" lists, setting goals...)\n
 Michelle Painchaud, Painchaud Performance Group\n05/12/2011 Winning We
 b Sites That Mean Business Today a website isn’t just important, it
 s mandatory for a successful farm marketer. A well-designed site can
  make a big difference in cash flow whether you use it to sell product
 s or promote on-farm events. What elements make a website work? Find o
 ut from farm marketing expert Jane Eckert, who has literally studied h
 undred’s of farm websites. She’ll teach you how to use photographs
 , links and make a user-friendly home page that will make guests retur
 n to your site again and again.\nJane Eckert, Eckert Agrimarketing\n07
 /12/2011 FCC Presents: Top 10 year-end tax planning tips for 2011 Join
  us for a one-hour webinar hosted by Lance D. Stockbrugger, CA, a Seni
 or Tax Manager with PricewaterhouseCoopers. Lance will share tax tips 
 and ideas to consider prior to year-end that may reduce your tax liabi
 lity and make the most of your annual contribution limits. He’ll als
 o discuss important deadlines to ensure that you do not miss an opport
 unity or are subject to late fees. If you have accumulated wealth or o
 perate a business, this webinar is for you.\nLance Stockbrugger Senior
  Manager, PricewaterhouseCoopers\n12/12/2011 Looking Forward through a
  Rearview Mirror: Planning for the future It is my thesis that if we s
 eparate the “business of farming” from real-estate ownership, a lo
 gical stepping stone is created. It is interesting that as soon as a c
 hild is born the most important lesson taught is that land ownership i
 s sacred. Then 30 years later parents are puzzled why not only the far
 m child but all their children want to own land...and even worse their
 s!\nMerle Good, Alberta Agriculture, Food and Rural Development\nRegis
 ter to watch live webinars, view the archive and sign up to our mailin
 g list to receive alerts on upcoming webinars at www.agriwebinar.com/
 Register.aspx - it’s free!\n\n \n\nFor more information visit http
 s://ontag.farms.com/events/agriwebinar-online-noon-emotional-intellige
 nce-emotions-at-the-he
DTSTART;TZID=Pacific/Midway:20111123T120000
DTEND;TZID=Pacific/Midway:20111123T130000
CATEGORIES:webinar
LOCATION:Online
WEBSITE:http://www.agriwebinar.com
URL:http://www.agriwebinar.com
CONTACT:
ORGANIZER:Canadian Farm Business Management Council
ATTACH;FMTTYPE="image/jpeg":http://storage.ning.com/topology/rest/1.0/
 file/get/1091513709?profile=original
ATTENDEE;ROLE=REQ-PARTICIPANT;PARTSTAT=ACCEPTED;RSVP=TRUE;CN="OntAG Ad
 min":https://ontag.farms.com/profile/OntAGAdmin
END:VEVENT
END:VCALENDAR
