BEGIN:VCALENDAR
PRODID:NingEventWidget-v1
VERSION:2.0
METHOD:PUBLISH
BEGIN:VTIMEZONE
TZID:Pacific/Midway
X-LIC-LOCATION:Pacific/Midway
BEGIN:STANDARD
TZOFFSETFROM:-1100
TZOFFSETTO:-1100
TZNAME:SST
DTSTART:19700101T000000
END:STANDARD
END:VTIMEZONE
BEGIN:VEVENT
UID:3646443:Event:28371
DTSTAMP:20260422T190825Z
SUMMARY:Agriwebinar® - Online @ NOON - Winning Web Sites That Mean Bu
 siness
DESCRIPTION:2011 Upcoming Agriwebinars – Canadian Farm Business Mana
 gement Council\n\n05/12/2011 Winning Web Sites That Mean Business Toda
 y a website isn’t just important, it’s mandatory for a successful 
 farm marketer. A well-designed site can make a big difference in cash 
 flow whether you use it to sell products or promote on-farm events. Wh
 at elements make a website work? Find out from farm marketing expert J
 ane Eckert, who has literally studied hundred’s of farm websites. Sh
 e’ll teach you how to use photographs, links and make a user-friendl
 y home page that will make guests return to your site again and again.
 \nJane Eckert, Eckert Agrimarketing\n07/12/2011 FCC Presents: Top 10 y
 ear-end tax planning tips for 2011 Join us for a one-hour webinar host
 ed by Lance D. Stockbrugger, CA, a Senior Tax Manager with Pricewaterh
 ouseCoopers. Lance will share tax tips and ideas to consider prior to 
 year-end that may reduce your tax liability and make the most of your 
 annual contribution limits. He’ll also discuss important deadlines t
 o ensure that you do not miss an opportunity or are subject to late fe
 es. If you have accumulated wealth or operate a business, this webinar
  is for you.\nLance Stockbrugger Senior Manager, PricewaterhouseCooper
 s\n12/12/2011 Looking Forward through a Rearview Mirror: Planning for 
 the future It is my thesis that if we separate the “business of farm
 ing” from real-estate ownership, a logical stepping stone is created
 . It is interesting that as soon as a child is born the most important
  lesson taught is that land ownership is sacred. Then 30 years later p
 arents are puzzled why not only the farm child but all their children 
 want to own land...and even worse theirs!\nMerle Good, Alberta Agricul
 ture, Food and Rural Development\nRegister to watch live webinars, vie
 w the archive and sign up to our mailing list to receive alerts on upc
 oming webinars at www.agriwebinar.com/Register.aspx - it’s free!\n
 \n \n\nFor more information visit https://ontag.farms.com/events/agri
 webinar-online-noon-winning-web-sites-that-mean-business
DTSTART;TZID=Pacific/Midway:20111205T120000
DTEND;TZID=Pacific/Midway:20111205T130000
CATEGORIES:webinar
LOCATION:Online
WEBSITE:http://www.agriwebinar.com
URL:http://www.agriwebinar.com
CONTACT:
ORGANIZER:Canadian Farm Business Management Council
ATTACH;FMTTYPE="image/jpeg":http://storage.ning.com/topology/rest/1.0/
 file/get/1091513709?profile=original
ATTENDEE;ROLE=REQ-PARTICIPANT;PARTSTAT=ACCEPTED;RSVP=TRUE;CN="OntAG Ad
 min":https://ontag.farms.com/profile/OntAGAdmin
END:VEVENT
END:VCALENDAR
