BEGIN:VCALENDAR
PRODID:NingEventWidget-v1
VERSION:2.0
METHOD:PUBLISH
BEGIN:VTIMEZONE
TZID:Pacific/Midway
X-LIC-LOCATION:Pacific/Midway
BEGIN:STANDARD
TZOFFSETFROM:-1100
TZOFFSETTO:-1100
TZNAME:SST
DTSTART:19700101T000000
END:STANDARD
END:VTIMEZONE
BEGIN:VEVENT
UID:3646443:Event:102218
DTSTAMP:20260419T091122Z
SUMMARY:Agronomy Panel - What to build into your 2021 Spring Plan
DESCRIPTION:Agronomy Panel—What to Build into your 2021 Spring Plan.
  Facilitators: Deb Campbell, Carrie Davenport, Luke Hartung \nHere 
 is your opportunity to learn from 3 Agronomists what you should be thi
 nking about as you head into #Plant21. There will be lots of opportuni
 ty for questions.  \n\nPlease email info@greyagservices.ca to regist
 er\n\nFor more information visit https://ontag.farms.com/events/agrono
 my-panel-what-to-build-into-your-2021-spring-plan
DTSTART;TZID=Pacific/Midway:20210323T130000
DTEND;TZID=Pacific/Midway:20210323T150000
CATEGORIES:agricultural, education, course
LOCATION:ONLINE Grey Agricultual Services Services
WEBSITE:https://www.greyagservices.ca/index.php/grey-agricultural-serv
 ices/winter-course-registration
URL:https://www.greyagservices.ca/index.php/grey-agricultural-services
 /winter-course-registration
CONTACT:5199863756
ORGANIZER:Grey County Agricultural Services
ATTACH;FMTTYPE="image/jpeg":https://storage.ning.com/topology/rest/1.0
 /file/get/8477205261?profile=original
ATTENDEE;ROLE=REQ-PARTICIPANT;PARTSTAT=ACCEPTED;RSVP=TRUE;CN="Grey Bru
 ce Farmers' Week":https://ontag.farms.com/profile/GreyBruceFarmersWeek
END:VEVENT
END:VCALENDAR
