BEGIN:VCALENDAR
PRODID:NingEventWidget-v1
VERSION:2.0
METHOD:PUBLISH
BEGIN:VTIMEZONE
TZID:Pacific/Midway
X-LIC-LOCATION:Pacific/Midway
BEGIN:STANDARD
TZOFFSETFROM:-1100
TZOFFSETTO:-1100
TZNAME:SST
DTSTART:19700101T000000
END:STANDARD
END:VTIMEZONE
BEGIN:VEVENT
UID:3646443:Event:70174
DTSTAMP:20260423T054333Z
SUMMARY:AgroSpray Research Farm Field Day
DESCRIPTION:AgroSpray Research Farm focuses on combining environmenta
 lly responsible nutrient application and modern technology to maximize
  agricultural yields. Our research centers on field crops but, this y
 ear, we began horticulture trials.\nWe have over 100 acres of field-si
 zed research trials and are located in Oxford County, Ontario. \nOur 
 2017 Field Day is on Wednesday, August 23. We invite you to join us fo
 r a morning or afternoon tour. Our guest speaker is Greg Stewart, Maiz
 ex Agronomy Lead & former OMAFRA corn specialist.\n\nPlease RSVP here
  or call 1-800-640-2476 by Friday, August 18 to reserve your spot for 
 the catered lunch.\n\nFor more information visit https://ontag.farms.c
 om/events/agrospray-research-farm-field-day
DTSTART;TZID=Pacific/Midway:20170823T090000
DTEND;TZID=Pacific/Midway:20170823T150000
CATEGORIES:"field day"
LOCATION:Oxford County, Ont.
WEBSITE:http://www.agroresearchfarm.com
URL:http://www.agroresearchfarm.com
CONTACT:5195332405
ORGANIZER;CN="John Gal":https://ontag.farms.com/profile/JohnGal
ATTACH;FMTTYPE="image/jpeg":
ATTENDEE;ROLE=REQ-PARTICIPANT;PARTSTAT=ACCEPTED;RSVP=TRUE;CN="John Gal
 ":https://ontag.farms.com/profile/JohnGal
END:VEVENT
END:VCALENDAR
