BEGIN:VCALENDAR
PRODID:NingEventWidget-v1
VERSION:2.0
METHOD:PUBLISH
BEGIN:VTIMEZONE
TZID:Pacific/Midway
X-LIC-LOCATION:Pacific/Midway
BEGIN:STANDARD
TZOFFSETFROM:-1100
TZOFFSETTO:-1100
TZNAME:SST
DTSTART:19700101T000000
END:STANDARD
END:VTIMEZONE
BEGIN:VEVENT
UID:3646443:Event:59666
DTSTAMP:20260422T060709Z
SUMMARY:All Equine Show
DESCRIPTION:The All Equine Show is a show dedicated to Equine enthusia
 sts. With demonstrations, live entertainment and educational clinics t
 here are plenty of experiences at this show!\n\nThe 3rd Annual All Equ
 ine Show takes place March 27-29, 2015. Horse trainers, riders, profes
 sionals and enthusiasts will enjoy three-days of clinics, demonstratio
 ns, entertainment  and shopping in the state-of-the-art Agriplex’s 
 110,000 square foot venue. At the event’s core; equine education and
  a focus on developing a strong information component that has attract
 ed clinicians from across the country.\nThe interactive nature of the 
 show encourages attendees to actively participate by getting close to 
 the animals, speaking with breeders and product experts, and watching 
 live competitions and demonstrations.\n \n2015 DATE & TIME\n\nFri, Ma
 rch 27: 2pm–8pm\n\nSat, March 28: 10am–8pm\n\nSun, March 29: 10am-
 5pm\n\n\n\nLocation\nAgriplex Building 845 Florence St., London, Ontar
 io\nClick here for directions to Western Fair District \nParking\nFR
 EE!\n\nFor more information visit https://ontag.farms.com/events/all-e
 quine-show
DTSTART;TZID=Pacific/Midway:20150327T000000
DTEND;TZID=Pacific/Midway:20150329T235900
CATEGORIES:equine, show
LOCATION:Western Fair District Agriplex
WEBSITE:http://londonallequineshow.com/
URL:http://londonallequineshow.com/
CONTACT:
ORGANIZER:Western Fair District
ATTACH;FMTTYPE="image/jpeg":http://storage.ning.com/topology/rest/1.0/
 file/get/1091532649?profile=original
ATTENDEE;ROLE=REQ-PARTICIPANT;PARTSTAT=ACCEPTED;RSVP=TRUE;CN="OntAG Ad
 min":https://ontag.farms.com/profile/OntAGAdmin
END:VEVENT
END:VCALENDAR
