BEGIN:VCALENDAR
PRODID:NingEventWidget-v1
VERSION:2.0
METHOD:PUBLISH
BEGIN:VTIMEZONE
TZID:Pacific/Midway
X-LIC-LOCATION:Pacific/Midway
BEGIN:STANDARD
TZOFFSETFROM:-1100
TZOFFSETTO:-1100
TZNAME:SST
DTSTART:19700101T000000
END:STANDARD
END:VTIMEZONE
BEGIN:VEVENT
UID:3646443:Event:61025
DTSTAMP:20260422T084153Z
SUMMARY:All-Ontario Judging Competition
DESCRIPTION: The 1st All-Ontario Judging Competition presented by the 
 Junior Farmer's Association of Ontario is a competition celebrating On
 tario agriculture and heritage. It is a competition that is open to ev
 eryone, with age categories being: JFAO Members, JFAO Alumni, JFAO Par
 tners, 4-H Members (Junior, Intermediate, and Senior), and Open.   Pa
 rticipants will compete in judging livestock, crops and lifestyle clas
 ses. Participants will also provide oral reasons in identified classes
  as well as completing quizzes.   Awards will be given out at the for
 mal awards gala, which will be held the evening of the competition. Da
 nce to follow.   Details on this event will be released as they are a
 vailable. If you live in the Orangeville area and would be interested
  in assisting with the supplying of classes to be judged, or might be 
 interested in partnership or donation opportunities, please email judg
 ingcompetition@jfao.on.ca.\n\nFor more information visit https://ontag
 .farms.com/events/all-ontario-judging-competition
DTSTART;TZID=Pacific/Midway:20150530T000000
DTEND;TZID=Pacific/Midway:20150530T235900
CATEGORIES:judging, competition
LOCATION:Orangeville Fairgrounds 247090 Side Road 5, Mono, ON L0N 1A0,
  Orangeville, Ontario L9W
WEBSITE:https://www.facebook.com/events/1537507516466435/
URL:https://www.facebook.com/events/1537507516466435/
CONTACT:
ORGANIZER:Junior Farmer's Association of Ontario
ATTACH;FMTTYPE="image/jpeg":http://storage.ning.com/topology/rest/1.0/
 file/get/1091538646?profile=original
ATTENDEE;ROLE=REQ-PARTICIPANT;PARTSTAT=ACCEPTED;RSVP=TRUE;CN="Amanda B
 rodhagen":https://ontag.farms.com/profile/AmandaBrodhagen
END:VEVENT
END:VCALENDAR
