BEGIN:VCALENDAR
PRODID:NingEventWidget-v1
VERSION:2.0
METHOD:PUBLISH
BEGIN:VTIMEZONE
TZID:Pacific/Midway
X-LIC-LOCATION:Pacific/Midway
BEGIN:STANDARD
TZOFFSETFROM:-1100
TZOFFSETTO:-1100
TZNAME:SST
DTSTART:19700101T000000
END:STANDARD
END:VTIMEZONE
BEGIN:VEVENT
UID:3646443:Event:12076
DTSTAMP:20260421T085711Z
SUMMARY:Alpaca Ontario's 10th Anniversary Spring Show
DESCRIPTION:Alpaca Ontario Celebrates Their 10th Anniversary Spring Sh
 ow\nApril 9th 8:30am - 4:00pm,    April 10th 8:30am - 3:00pm\n\nCome
  on out to the Orangeville Fairgrounds and help Alpaca Ontario celebra
 te their 10th\nAnniversary Spring Show.\n \nLast year saw almost 400 
 alpacas parade through the ring to be judged over a 2 day show\nevent 
 that was not to be missed. Breeders came from as far as Prince Edward 
 Island and\nBritish Columbia to take part in the largest alpaca halter
  show in Canada.\n \nTake a stroll through the alpaca barns, view all
  the animals and have a chat with some\nbreeders. Learn all there is t
 o know about this wonderful livestock opportunity. Take in\nthe vendor
  area for a look at just what can be made with the beautiful fleece fr
 om these\ngentle animals. The photo contest is always a popular displa
 y, showing our favourite animals in their best, and sometimes most hum
 orous, light.\n \nThere is a lot to see and learn in the Fibre Fantas
 y Area. Sit a while and watch the\nspinning and weaving demonstration 
 and get a sense of what this re-popularized art form\nis all about. Pe
 ruse the fibre display and see what happens after the fleece is shorn 
 in the\nspring time. Many breeders are quite crafty and enter their cr
 eations in our Fibre Arts\nCompetition to be judged. You can take part
  by filling out a People’s Choice Ballot and\nselecting your favouri
 te pieces.\n \nShort seminars will be offered throughout the weekend 
 on fibre and alpacas in general.\nBreakfast and Lunch will be availabl
 e in the vendor area. And of course, we welcome\nyou to sit back and e
 njoy the show.\nAdmission is free. Plenty of free parking available\nW
 e Hope We’ll See You There!  \nwww.alpacaontario.ca\n\nFor more inf
 ormation visit https://ontag.farms.com/events/alpaca-ontarios-10th
DTSTART;TZID=Pacific/Midway:20110409T000000
DTEND;TZID=Pacific/Midway:20110410T235900
CATEGORIES:full, fleece, alpaca, show
LOCATION:Orangeville Fairgrounds
WEBSITE:http://www.alpacaontario.ca
URL:http://www.alpacaontario.ca
CONTACT:
ORGANIZER:Alpaca Ontario
ATTACH;FMTTYPE="image/jpeg":http://storage.ning.com/topology/rest/1.0/
 file/get/1091509219?profile=original
ATTENDEE;ROLE=REQ-PARTICIPANT;PARTSTAT=ACCEPTED;RSVP=TRUE;CN="Ann Clay
 burn":https://ontag.farms.com/profile/AnnClayburn
END:VEVENT
END:VCALENDAR
