BEGIN:VCALENDAR
PRODID:NingEventWidget-v1
VERSION:2.0
METHOD:PUBLISH
BEGIN:VTIMEZONE
TZID:Pacific/Midway
X-LIC-LOCATION:Pacific/Midway
BEGIN:STANDARD
TZOFFSETFROM:-1100
TZOFFSETTO:-1100
TZNAME:SST
DTSTART:19700101T000000
END:STANDARD
END:VTIMEZONE
BEGIN:VEVENT
UID:3646443:Event:7059
DTSTAMP:20260423T140154Z
SUMMARY:Alternate Energy and The Family Farm
DESCRIPTION:There will be a symposium at the Simcoe County Museum enti
 tled \"Alternate Energy and The Family Farm\" on Nov. 16.\n\nThe event
  is sponsored by the Simcoe County Federation of Agriculture and prepa
 red by the SCFA and Ontario Farmland Preservation.\n\nThe purpose of t
 he event is to celebrate the vibrancy of the agricultural sector and t
 o highlight the many positive aspects of this industry and way of life
 .\n\nThere will be a panel of speakers. There has been much made of th
 e Green Energy Act that has been presented by the provincial governmen
 t as a way of helping develop Ontario's electrical generating capabili
 ties, but is lacing in public discussions.\n\nFollowing the speakers, 
 there will be a panel discussion and a question and answer period.\n\n
 For seats, please contact Connie Brown at 705-726-9300, ext. 1224.\n\n
 For more information visit https://ontag.farms.com/events/alternate-en
 ergy-and-the
DTSTART;TZID=Pacific/Midway:20101116T000000
DTEND;TZID=Pacific/Midway:20101116T235900
CATEGORIES:symposium
LOCATION:Simcoe County Museum
WEBSITE:
URL:
CONTACT:705-726-9300, ext. 1224.
ORGANIZER:Simcoe County Federation of Agriculture
ATTACH;FMTTYPE="image/jpeg":
ATTENDEE;ROLE=REQ-PARTICIPANT;PARTSTAT=ACCEPTED;RSVP=TRUE;CN="OntAG Ad
 min":https://ontag.farms.com/profile/OntAGAdmin
END:VEVENT
END:VCALENDAR
