BEGIN:VCALENDAR
PRODID:NingEventWidget-v1
VERSION:2.0
METHOD:PUBLISH
BEGIN:VTIMEZONE
TZID:Pacific/Midway
X-LIC-LOCATION:Pacific/Midway
BEGIN:STANDARD
TZOFFSETFROM:-1100
TZOFFSETTO:-1100
TZNAME:SST
DTSTART:19700101T000000
END:STANDARD
END:VTIMEZONE
BEGIN:VEVENT
UID:3646443:Event:57337
DTSTAMP:20260422T021434Z
SUMMARY:Amazing Grazing - Cultivating a Taste for Ontario Flavours! at
  Western Fair in London
DESCRIPTION:Cultivating a Taste for Ontario Flavours!\nDate: Friday, N
 ovember 21st, 2014\nTime: 5:00-9:00 pm\nPlace: Western Fair District -
  AgriPlex Building\n\nGeneral Admission   5:00 pm to 9:00 pm   $25
 \n\nFree food samples\nAn overview of the Southwestern Ontario Agricul
 ture Landscape\n\n\nVIP Admission:  4:00 pm to 9:00 pm    $35\n\nKe
 ynote Speaker Steve Peters, Executive Director of Food and Beverage O
 ntario .\nEarly access to exhibitors & Free Food Samples\nAn overview
  of the Southwestern Ontario Agricultural Landscape\n\nTicket Availabl
 e on www.londonchamber.com or on www.westernfairdistrict.com\n\nThis
  first time event is a food show with a twist. The London Chamber of C
 ommerce and Western Fair District realize the strengths of working wit
 h agriculture and agri-business by connecting to the consumer and high
 lighting the job opportunities within the sector.\nMarketing Boards fr
 om across the province are being asked to be exhibitors. They will be 
 asked to provide a sample of their product to be tasted by the event a
 ttendees, along with the recipe of what is being served, so that they 
 can purchase their product and make it at home.\nTo make the event int
 eractive the attendees will be asked to vote for their favourite recip
 e.\nThe twist to Amazing Grazing is that there will be an educational 
 awareness component, placed beside each booth. It will be a \"menu\" o
 f sorts which will include:\n~ jobs that are available in getting thei
 r product from the farm to the consumer's fork.\n[Examples include vet
 , farm manager, accountant, transport truck driver, processing plant w
 orkers, retail store manager, banker]\n~ the skills needed for these j
 obs and the education required.\n~ as well there will be \"did you kno
 w\" type facts such as:\n~ 1 in 9 jobs in Ontario are in the Agri-food
  sector\n~ 3 jobs exist for every agriculture graduate with a bachelor
 's degree\n\nExhibitor spaces are 10 x 10 and include a banquet-sized 
 table, power, drapery & Wi-Fi.\nTotal is per 10 x 10 space is $150.00 
 plus HST.\nTo book your exhibitor space or to inquire about sponsorshi
 p, please email Janie Rother at janie@londonchamber.com or call 519-43
 2-7551 x34\n\n\nFor more information visit https://ontag.farms.com/eve
 nts/amazing-grazing-food-show-with-a-twist-in-london-at-western-fair
DTSTART;TZID=Pacific/Midway:20141121T170000
DTEND;TZID=Pacific/Midway:20141121T210000
CATEGORIES:food, show, with, a, twist
LOCATION:Western Fair District - Canada Building
WEBSITE:http://www.amazinggrazinglondon.com/
URL:http://www.amazinggrazinglondon.com/
CONTACT:519-432-7551 x34
ORGANIZER:London Chamber of Commerce
ATTACH;FMTTYPE="image/jpeg":http://storage.ning.com/topology/rest/1.0/
 file/get/1091527712?profile=original
ATTENDEE;ROLE=REQ-PARTICIPANT;PARTSTAT=ACCEPTED;RSVP=TRUE;CN="OntAG Ad
 min":https://ontag.farms.com/profile/OntAGAdmin
ATTENDEE;ROLE=REQ-PARTICIPANT;PARTSTAT=ACCEPTED;RSVP=TRUE;CN="Amy Math
 eson":https://ontag.farms.com/profile/AmyMatheson
END:VEVENT
END:VCALENDAR
