BEGIN:VCALENDAR
PRODID:NingEventWidget-v1
VERSION:2.0
METHOD:PUBLISH
BEGIN:VTIMEZONE
TZID:Pacific/Midway
X-LIC-LOCATION:Pacific/Midway
BEGIN:STANDARD
TZOFFSETFROM:-1100
TZOFFSETTO:-1100
TZNAME:SST
DTSTART:19700101T000000
END:STANDARD
END:VTIMEZONE
BEGIN:VEVENT
UID:3646443:Event:4949
DTSTAMP:20260421T191635Z
SUMMARY:Apple IPM Scout Training Workshops
DESCRIPTION:IPM Scout Training Workshop - Apples\n\nLunch on your own\
 nHandouts provided\nIf possible, bring copy of Pub #360 and 310\n\nFor
  more information visit https://ontag.farms.com/events/apple-ipm-scout
 -training
DTSTART;TZID=Pacific/Midway:20100506T090000
DTEND;TZID=Pacific/Midway:20100506T160000
CATEGORIES:workshop
LOCATION:Simcoe OMAFRA, Auditorium
WEBSITE:http://www.omafra.gov.on.ca/english/crops/conferences/index.ht
 ml#hort
URL:http://www.omafra.gov.on.ca/english/crops/conferences/index.html#h
 ort
CONTACT:519-426-4322
ORGANIZER:Kathry Carter, IPM Specialist, OMFARA
ATTACH;FMTTYPE="image/jpeg":
ATTENDEE;ROLE=REQ-PARTICIPANT;PARTSTAT=ACCEPTED;RSVP=TRUE;CN=ontarioto
 mato:https://ontag.farms.com/profile/ontariotomato
END:VEVENT
END:VCALENDAR
