BEGIN:VCALENDAR
PRODID:NingEventWidget-v1
VERSION:2.0
METHOD:PUBLISH
BEGIN:VTIMEZONE
TZID:Pacific/Midway
X-LIC-LOCATION:Pacific/Midway
BEGIN:STANDARD
TZOFFSETFROM:-1100
TZOFFSETTO:-1100
TZNAME:SST
DTSTART:19700101T000000
END:STANDARD
END:VTIMEZONE
BEGIN:VEVENT
UID:3646443:Event:42163
DTSTAMP:20260422T114722Z
SUMMARY:Arcadian Daylilies - Peak Bloom Open Garden
DESCRIPTION:For the first time in quite a few years we are holding an 
 Open Garden at the peak of the daylily bloom season. You are invited t
 o come and enjoy the bloom, or just come and visit with Nancy & me. Mo
 re information at www.ArcadianDaylilies.com/OpenGarden.html\n\nFor mor
 e information visit https://ontag.farms.com/events/arcadian-daylilies-
 peak-bloom-open-garden
DTSTART;TZID=Pacific/Midway:20130713T080000
DTEND;TZID=Pacific/Midway:20130713T150000
CATEGORIES:private, garden, open, at, the, peak, of, daylily, bloom, s
 eason
LOCATION:Etobicoke ON - just off QEW/427/Gardiner Exprsswy
WEBSITE:http://www.ArcadianDaylilies.com/OpenGarden.html
URL:http://www.ArcadianDaylilies.com/OpenGarden.html
CONTACT:
ORGANIZER;CN="Sandy Carlton":https://ontag.farms.com/profile/SandyCarl
 ton
ATTACH;FMTTYPE="image/jpeg":http://storage.ning.com/topology/rest/1.0/
 file/get/1091519543?profile=original
ATTENDEE;ROLE=REQ-PARTICIPANT;PARTSTAT=ACCEPTED;RSVP=TRUE;CN="Sandy Ca
 rlton":https://ontag.farms.com/profile/SandyCarlton
END:VEVENT
END:VCALENDAR
