BEGIN:VCALENDAR
PRODID:NingEventWidget-v1
VERSION:2.0
METHOD:PUBLISH
BEGIN:VTIMEZONE
TZID:Pacific/Midway
X-LIC-LOCATION:Pacific/Midway
BEGIN:STANDARD
TZOFFSETFROM:-1100
TZOFFSETTO:-1100
TZNAME:SST
DTSTART:19700101T000000
END:STANDARD
END:VTIMEZONE
BEGIN:VEVENT
UID:3646443:Event:75069
DTSTAMP:20260419T183725Z
SUMMARY:Assessing The Business Risks Of African Swine Fever In The Ont
 ario Pork Industry
DESCRIPTION:Balancing the information on ASF for the pork industry\r\n
 Industry experts will examine the impact of ASF (African Swine Fever) 
 on global and domestic pork markets, explore what opportunities this p
 resents. Meeting will also highlight the strategies in place to preven
 t ASF in Canada, and identify how the Ontario hog market could be impa
 cted.\r\nCost: $40.00 per person\r\n \r\nTo register: dkaczmarczyk@So
 uthwestvets.ca  Spots limited.\r\n \r\n Any questions – please con
 tact Andrea De Groot – andrea.opic@gmail.com\n\nFor more information
  visit https://ontag.farms.com/events/assessing-the-business-risks-of-
 african-swine-fever-in-the-ontari
DTSTART;TZID=Pacific/Midway:20190226T093000
DTEND;TZID=Pacific/Midway:20190226T163000
CATEGORIES:seminar
LOCATION:Stratford Golf &amp; Country Club
WEBSITE:
URL:
CONTACT:
ORGANIZER:Ontario Pork Industry Council
ATTACH;FMTTYPE="image/jpeg":
ATTENDEE;ROLE=REQ-PARTICIPANT;PARTSTAT=ACCEPTED;RSVP=TRUE;CN="OntAG Ad
 min":https://ontag.farms.com/profile/OntAGAdmin
END:VEVENT
END:VCALENDAR
