BEGIN:VCALENDAR
PRODID:NingEventWidget-v1
VERSION:2.0
METHOD:PUBLISH
BEGIN:VTIMEZONE
TZID:Pacific/Midway
X-LIC-LOCATION:Pacific/Midway
BEGIN:STANDARD
TZOFFSETFROM:-1100
TZOFFSETTO:-1100
TZNAME:SST
DTSTART:19700101T000000
END:STANDARD
END:VTIMEZONE
BEGIN:VEVENT
UID:3646443:Event:115570
DTSTAMP:20260423T071020Z
SUMMARY:AWC 2025 - East
DESCRIPTION:AWC is created for every woman—cisgender, transgender, a
 nd anyone who identifies with womanhood—who is passionate about agri
 culture and food. Whether you are a university or college student stud
 ying agriculture, producer, rancher, entrepreneur, representative of a
  grower association or corporate agribusiness, AWC is anyone who wants
  to enhance their family life, community, career, and industry through
 :\r\n—communications and coaching —mentoring and networking —fin
 ancial management and independence —health and balance of life strat
 egies —career planning, and —setting goals in all areasOnline regi
 stration now open\n\nFor more information visit https://ontag.farms.co
 m/events/awc-2025-east
DTSTART;TZID=Pacific/Midway:20251123T000000
DTEND;TZID=Pacific/Midway:20251125T235900
CATEGORIES:conference
LOCATION:Sheraton Fallsview 3rd Level,
WEBSITE:https://advancingwomenconference.ca/2025east/
URL:https://advancingwomenconference.ca/2025east/
CONTACT:call 403-686-8407 or email iris@irismeck.com.
ORGANIZER:Iris Meck Communications Inc
ATTACH;FMTTYPE="image/jpeg":https://storage.ning.com/topology/rest/1.0
 /file/get/13724793895?profile=original
ATTENDEE;ROLE=REQ-PARTICIPANT;PARTSTAT=ACCEPTED;RSVP=TRUE;CN="OntAG Ad
 min":https://ontag.farms.com/profile/OntAGAdmin
END:VEVENT
END:VCALENDAR
