BEGIN:VCALENDAR
PRODID:NingEventWidget-v1
VERSION:2.0
METHOD:PUBLISH
BEGIN:VTIMEZONE
TZID:Pacific/Midway
X-LIC-LOCATION:Pacific/Midway
BEGIN:STANDARD
TZOFFSETFROM:-1100
TZOFFSETTO:-1100
TZNAME:SST
DTSTART:19700101T000000
END:STANDARD
END:VTIMEZONE
BEGIN:VEVENT
UID:3646443:Event:95190
DTSTAMP:20260421T042739Z
SUMMARY:BCRC 2020/2021 Webinar Series: Reproductive Failure in the Bee
 f Herd
DESCRIPTION:This year’s BCRC webinar series will cover a range of to
 pics including record keeping, invasive weed species, and reproductive
  failure in the cow herd, all focused on practical, science-based info
 rmation for Canadian beef producers.\r\nRegister here. You can registe
 r for as many (or all!) of the webinars you’re interested in at once
 . After you click the link above, be sure to scroll down to see and se
 lect for all six (6) dates.\r\n We recommend registering regardless of
  whether you can attend during the date/time listed. By registering, y
 ou’ll receive the link that allows you to watch the recording at any
  time, reminders to attend the live event, plus additional resources o
 n the topic. It’s no problem if you miss a webinar you’re register
 ed for – you will receive a link to the recording – however joinin
 g the live broadcast is recommended as it gives you the opportunity to
  interact with the presenters and ask your own questions.\r\nBCRC webi
 nars are available free of charge thanks to guest speakers who volunte
 er their time and expertise to support advancements in the Canadian be
 ef industry, and through the Knowledge Dissemination and Technology Tr
 ansfer project funded by the Canadian Beef Cattle Check-Off and Canada
 ’s Beef Science Cluster.\r\nTopics:\r\nCombating Invasive Weed Speci
 es October 28, 2020, 9:00 PM\r\nCalm and Calculated: What Key Financia
 l Tools Can Help You Achieve Success on Your Farm? November 18, 2020, 
 9:00 PM\r\nReproductive Failure in the Beef Herd: Causes, Effects and 
 When to Intervene December 2, 2020, 9:00 PM\r\nMeeting Your Production
  Goals: Records for Animal Health and Performance January 13, 2021, 9:
 00 PM\r\nBreeding Goals: Practical Genetics for Beef Production Februa
 ry 17, 2021, 9:00 PM\r\nRecord Keeping for Forage and Grassland Manage
 ment March 24, 2021, 9:00 PM\r\n\r\n\n\nFor more information visit htt
 ps://ontag.farms.com/events/bcrc-2020-2021-webinar-series-reproductive
 -failure-in-the-beef
DTSTART;TZID=Pacific/Midway:20201202T210000
DTEND;TZID=Pacific/Midway:20201202T220000
CATEGORIES:webinar
LOCATION:Online
WEBSITE:http://www.beefresearch.ca/blog/registration-now-open-for-2020
 -2021-webinar-series/
URL:http://www.beefresearch.ca/blog/registration-now-open-for-2020-202
 1-webinar-series/
CONTACT:
ORGANIZER:Beef Cattle Research Council
ATTACH;FMTTYPE="image/jpeg":
ATTENDEE;ROLE=REQ-PARTICIPANT;PARTSTAT=ACCEPTED;RSVP=TRUE;CN="OntAG Ad
 min":https://ontag.farms.com/profile/OntAGAdmin
END:VEVENT
END:VCALENDAR
