BEGIN:VCALENDAR
PRODID:NingEventWidget-v1
VERSION:2.0
METHOD:PUBLISH
BEGIN:VTIMEZONE
TZID:Pacific/Midway
X-LIC-LOCATION:Pacific/Midway
BEGIN:STANDARD
TZOFFSETFROM:-1100
TZOFFSETTO:-1100
TZNAME:SST
DTSTART:19700101T000000
END:STANDARD
END:VTIMEZONE
BEGIN:VEVENT
UID:3646443:Event:67965
DTSTAMP:20260423T113021Z
SUMMARY:Becoming a Carbon Farmer
DESCRIPTION:Canadian and Ontario farmers can have an active role in re
 aching the International carbon reduction targets, agreed to in the re
 cent Paris Climate Change Conference. Farmers can reduce carbon emissi
 ons and there is an exciting area of \"Cap and Trade\", whereby farmer
 s may be able to receive payments from carbon emitters to sequester ca
 rbon on their farms. Come hear about this future way of farming.  Fac
 ilitated by Chuck Mitchell.\nCost?        $10.00 per person\nPre
 -Register By: Mon. Jan. 23, 2017\n \n \n\nFor more information visit
  https://ontag.farms.com/events/becoming-a-carbon-farmer
DTSTART;TZID=Pacific/Midway:20170126T150000
DTEND;TZID=Pacific/Midway:20170126T170000
CATEGORIES:course
LOCATION:Grey Ag Services Boardroom
WEBSITE:http://www.greyagservices.ca/index.php/grey-agricultural-servi
 ces/winter-course-registration
URL:http://www.greyagservices.ca/index.php/grey-agricultural-services/
 winter-course-registration
CONTACT:519 986-3756
ORGANIZER:Grey County Agricultural Services Centre
ATTACH;FMTTYPE="image/jpeg":http://storage.ning.com/topology/rest/1.0/
 file/get/1091547766?profile=original
ATTENDEE;ROLE=REQ-PARTICIPANT;PARTSTAT=ACCEPTED;RSVP=TRUE;CN="Grey Bru
 ce Farmers' Week":https://ontag.farms.com/profile/GreyBruceFarmersWeek
END:VEVENT
END:VCALENDAR
