BEGIN:VCALENDAR
PRODID:NingEventWidget-v1
VERSION:2.0
METHOD:PUBLISH
BEGIN:VTIMEZONE
TZID:Pacific/Midway
X-LIC-LOCATION:Pacific/Midway
BEGIN:STANDARD
TZOFFSETFROM:-1100
TZOFFSETTO:-1100
TZNAME:SST
DTSTART:19700101T000000
END:STANDARD
END:VTIMEZONE
BEGIN:VEVENT
UID:3646443:Event:67868
DTSTAMP:20260421T084508Z
SUMMARY:Beekeeping 101
DESCRIPTION:The honey bee and beekeeping has been a popular subject in
  the agriculture community.  Hugh Simpson, a commercial beekeeper in 
 Grey County, will present the basic information about getting started 
 in beekeeping.  He will provide his \"top 10 list\" of things to know
  for the new beekeeper. He'll present information about equipment, ba
 sic beekeeping, and honey production, as well as provide lots of time 
 for discussion and questions on the subject. We hope you'll join us!\
 nWhen?      Tues. Feb. 28, 2017, 7:00 to 9:30 pm\nCost?     
    $10.00 per person\nPre-Register By: Fri. Feb. 24, 2017\n \n \n\
 nFor more information visit https://ontag.farms.com/events/beekeeping-
 101
DTSTART;TZID=Pacific/Midway:20170228T190000
DTEND;TZID=Pacific/Midway:20170228T210000
CATEGORIES:course
LOCATION:Grey County Agricultural Services Centre Boardroom
WEBSITE:http://www.greyagservices.ca/index.php/grey-agricultural-servi
 ces/winter-course-registration
URL:http://www.greyagservices.ca/index.php/grey-agricultural-services/
 winter-course-registration
CONTACT:519 986-3756
ORGANIZER:Grey County Agricultural Services Centre
ATTACH;FMTTYPE="image/jpeg":http://storage.ning.com/topology/rest/1.0/
 file/get/1091547893?profile=original
ATTENDEE;ROLE=REQ-PARTICIPANT;PARTSTAT=ACCEPTED;RSVP=TRUE;CN="Grey Bru
 ce Farmers' Week":https://ontag.farms.com/profile/GreyBruceFarmersWeek
END:VEVENT
END:VCALENDAR
