BEGIN:VCALENDAR
PRODID:NingEventWidget-v1
VERSION:2.0
METHOD:PUBLISH
BEGIN:VTIMEZONE
TZID:Pacific/Midway
X-LIC-LOCATION:Pacific/Midway
BEGIN:STANDARD
TZOFFSETFROM:-1100
TZOFFSETTO:-1100
TZNAME:SST
DTSTART:19700101T000000
END:STANDARD
END:VTIMEZONE
BEGIN:VEVENT
UID:3646443:Event:2249
DTSTAMP:20260421T084633Z
SUMMARY:Big Bug Day VII - disease challenges that impact your operatio
 n
DESCRIPTION:Learn about the disease challenges that impact your operat
 ion. Swine Influenza, nH1N1, Suis-cide disease such as Strep suis , H.
  parasuis, PRRS. Plan to attend December 2, 2009 at the Arden Park Hot
 el in Stratford. Registration $20.00. Producers get in FREE. Registrat
 ion starts at 9:00 am and the program runs from 10:00 am to 3:00 pm. R
 egister with Linda Dillon at the OMAFRA Resource Center Tel: 519-482-3
 333 Fax: 519-482-5031 or email Linda at linda.dillon@ontario.ca Prereg
 istration required by Tuesday Nov. 24 2009. 2\n\nFor more information 
 visit https://ontag.farms.com/events/big-bug-day-vii-disease
DTSTART;TZID=Pacific/Midway:20091202T000000
DTEND;TZID=Pacific/Midway:20091202T235900
CATEGORIES:pork, diseases, seminar
LOCATION:Arden Park Hotel
WEBSITE:
URL:
CONTACT:Linda Dillon at the OMAFRA Resource Center Tel: 519-482-3333
ORGANIZER:OMAFRA
ATTACH;FMTTYPE="image/jpeg":
ATTENDEE;ROLE=REQ-PARTICIPANT;PARTSTAT=ACCEPTED;RSVP=TRUE;CN=AgOntario
 :https://ontag.farms.com/profile/AgOntario
END:VEVENT
END:VCALENDAR
