BEGIN:VCALENDAR
PRODID:NingEventWidget-v1
VERSION:2.0
METHOD:PUBLISH
BEGIN:VTIMEZONE
TZID:Pacific/Midway
X-LIC-LOCATION:Pacific/Midway
BEGIN:STANDARD
TZOFFSETFROM:-1100
TZOFFSETTO:-1100
TZNAME:SST
DTSTART:19700101T000000
END:STANDARD
END:VTIMEZONE
BEGIN:VEVENT
UID:3646443:Event:66616
DTSTAMP:20260421T160221Z
SUMMARY:Big Bug Day
DESCRIPTION:Attention Ontario producers and industry partners – we w
 ant to hear from you!\n\nIntroduction – Dr. Marty Misener, OSHAB Cha
 ir\nSwine Health Ontario Comments\nAn Analysis of Cost and Production 
 in a Sow System with Endemic PEDv - Smithfield plans to eliminate PED 
 from their 60,000 sow base – Dr. Whitney Lincoln, Smithfield\nThe co
 sts of PED in the Sunterra System and Biosecurity Tips to Keep PED Out
  – Ben Keeble and Mark Chambers, Sunterra Farms  Lunch  Please note 
 that we respectfully request no media after lunch to allow an open dis
 cussion between industry partners \nSector discussions on challenges a
 nd solutions faced as we work to eliminate PED from Ontario and develo
 p a better swine health strategy for Ontario. Focused on challenges an
 d solutions for\n\n\n\nü      producers\nü      processors
 \nü      transport/assembly\nü      feed  Please pre-regis
 ter with Donna Kaczmarczyk by Oct 17th  \nPhone:  519-272-1532 E-mai
 l: dkaczmarczyk@southwestvets.ca\n\n\n\nFor more information visit htt
 ps://ontag.farms.com/events/big-bug-day
DTSTART;TZID=Pacific/Midway:20161020T093000
DTEND;TZID=Pacific/Midway:20161020T160000
CATEGORIES:open, discussion
LOCATION:Arden Park Hotel
WEBSITE:https://southwestvets.ca/
URL:https://southwestvets.ca/
CONTACT:519-272-1532
ORGANIZER;CN="OntAG Admin":https://ontag.farms.com/profile/OntAGAdmin
ATTACH;FMTTYPE="image/jpeg":http://storage.ning.com/topology/rest/1.0/
 file/get/1091546756?profile=original
ATTENDEE;ROLE=REQ-PARTICIPANT;PARTSTAT=ACCEPTED;RSVP=TRUE;CN="OntAG Ad
 min":https://ontag.farms.com/profile/OntAGAdmin
END:VEVENT
END:VCALENDAR
