BEGIN:VCALENDAR
PRODID:NingEventWidget-v1
VERSION:2.0
METHOD:PUBLISH
BEGIN:VTIMEZONE
TZID:Pacific/Midway
X-LIC-LOCATION:Pacific/Midway
BEGIN:STANDARD
TZOFFSETFROM:-1100
TZOFFSETTO:-1100
TZNAME:SST
DTSTART:19700101T000000
END:STANDARD
END:VTIMEZONE
BEGIN:VEVENT
UID:3646443:Event:115529
DTSTAMP:20260422T120310Z
SUMMARY:Binbrook Breakfast on the Farm
DESCRIPTION:\r\n\r\nYou're invited for a one-of-a-kind on-farm experie
 nce!\r\n\r\n\r\n\r\n\r\nGuests will be treated to an all-Ontario break
 fast, farm tour, visits to interactive educational displays, family ph
 oto ops and a lot of fun!\r\n\r\n\r\n\r\n\r\nCome Experience Breakfas
 t on the Farm – Binbrook!\r\nBring the whole family for a fun and ed
 ucational morning on the farm!\r\nAt Breakfast on the Farm, you’ll e
 njoy a delicious, farm-fresh breakfast and get a behind-the-scenes loo
 k at how food is grown and raised right here in Ontario. Hosted by the
  Spoelstra family and Farm & Food Care Ontario, this event offers a un
 ique opportunity for kids and adults alike to explore the exciting wor
 ld of modern agriculture.\r\nMeet your hosts:\r\nThe Spoelstra family 
 owns and operates Roy-A-Lea Farms Ltd. in Binbrook, a mixed farm where
  they raise beef cattle and milk 60 Holstein cows with robotic milking
  and feeding technology. The family also grows corn, soybeans, wheat, 
 and hay on 1900 acres. In addition, they raise Clydesdale horses and s
 ell corn and soybean seeds to local growers. The Spoelstras are passio
 nate and progressive farmers and firm believers in doing what you love
  to make a living. The family was awarded the BMO Farm Family Award in
  2017, recognizing their dedication to Ontario’s agriculture sector,
  community, and rural way of life.\r\nWhat can you do at Breakfast on 
 the Farm?\r\n\r\nGet up close with farm animals, including dairy cows,
  beef cattle, and Clydesdale horses\r\nLearn how robotic milking and f
 eeding technology is used on today’s dairy farms\r\nSee tractors and
  farm equipment in action\r\nExplore interactive games and exhibits ab
 out where your food comes from\r\nMeet and chat with local farmers and
  learn about life on the farm\r\n\r\nWhether you’re a lifelong farm 
 fan or visiting for the first time, there’s something for everyone t
 o enjoy. It’s a great chance to connect, learn, and make some unforg
 ettable family memories.\r\n\r\n\n\nFor more information visit https:/
 /ontag.farms.com/events/binbrook-breakfast-on-the-farm
DTSTART;TZID=Pacific/Midway:20260613T090000
DTEND;TZID=Pacific/Midway:20260613T130000
CATEGORIES:breakfast, on, the, farm
LOCATION:Roy-A-Lea Farms Ltd.
WEBSITE:https://www.farmfoodcareon.org/binbookbreakfast/
URL:https://www.farmfoodcareon.org/binbookbreakfast/
CONTACT:
ORGANIZER:Farm &amp; Food Care Ontario
ATTACH;FMTTYPE="image/jpeg":https://storage.ning.com/topology/rest/1.0
 /file/get/31126661101?profile=original
ATTENDEE;ROLE=REQ-PARTICIPANT;PARTSTAT=ACCEPTED;RSVP=TRUE;CN="OntAG Ad
 min":https://ontag.farms.com/profile/OntAGAdmin
END:VEVENT
END:VCALENDAR
