BEGIN:VCALENDAR
PRODID:NingEventWidget-v1
VERSION:2.0
METHOD:PUBLISH
BEGIN:VTIMEZONE
TZID:Pacific/Midway
X-LIC-LOCATION:Pacific/Midway
BEGIN:STANDARD
TZOFFSETFROM:-1100
TZOFFSETTO:-1100
TZNAME:SST
DTSTART:19700101T000000
END:STANDARD
END:VTIMEZONE
BEGIN:VEVENT
UID:3646443:Event:69362
DTSTAMP:20260422T020550Z
SUMMARY:Biochar Field Tour Open House
DESCRIPTION:Learn how biochar influences soil health   For further inf
 ormation & registration contact: Maren Oelbermann ;uwsoilbiochar@gmail
 .com  Registration deadline: July 20, 2017  Limited space available. R
 egister soon!\n\nFor more information visit https://ontag.farms.com/ev
 ents/biochar-field-tour-open-house
DTSTART;TZID=Pacific/Midway:20170811T000000
DTEND;TZID=Pacific/Midway:20170811T235900
CATEGORIES:field, tour
LOCATION:Bayfield
WEBSITE:
URL:
CONTACT:519-888-4567 Ext 37552
ORGANIZER;CN="OntAG Admin":https://ontag.farms.com/profile/OntAGAdmin
ATTACH;FMTTYPE="image/jpeg":
ATTENDEE;ROLE=REQ-PARTICIPANT;PARTSTAT=ACCEPTED;RSVP=TRUE;CN="OntAG Ad
 min":https://ontag.farms.com/profile/OntAGAdmin
END:VEVENT
END:VCALENDAR
