BEGIN:VCALENDAR
PRODID:NingEventWidget-v1
VERSION:2.0
METHOD:PUBLISH
BEGIN:VTIMEZONE
TZID:Pacific/Midway
X-LIC-LOCATION:Pacific/Midway
BEGIN:STANDARD
TZOFFSETFROM:-1100
TZOFFSETTO:-1100
TZNAME:SST
DTSTART:19700101T000000
END:STANDARD
END:VTIMEZONE
BEGIN:VEVENT
UID:3646443:Event:5184
DTSTAMP:20260421T051554Z
SUMMARY:Biomass Information Meetings
DESCRIPTION:Ontario Soil and Crop Improvement Association is leading i
 nformation sessions for farmers interested in becoming \ncooperators 
 to assist researchers in ﬁeld-scale studies involving growing agricu
 ltural biomass for sustainable, renewable energy.\n\nFor more informat
 ion visit https://ontag.farms.com/events/biomass-information-meetings
DTSTART;TZID=Pacific/Midway:20100603T190000
DTEND;TZID=Pacific/Midway:20100603T200000
CATEGORIES:information, meeting
LOCATION:Simcoe Research Station
WEBSITE:
URL:
CONTACT:519-826-4219
ORGANIZER;CN="Nick Betts":https://ontag.farms.com/profile/NickBetts
ATTACH;FMTTYPE="image/jpeg":http://storage.ning.com/topology/rest/1.0/
 file/get/1091505318?profile=original
ATTENDEE;ROLE=REQ-PARTICIPANT;PARTSTAT=ACCEPTED;RSVP=TRUE;CN="Nick Bet
 ts":https://ontag.farms.com/profile/NickBetts
END:VEVENT
END:VCALENDAR
