BEGIN:VCALENDAR
PRODID:NingEventWidget-v1
VERSION:2.0
METHOD:PUBLISH
BEGIN:VTIMEZONE
TZID:Pacific/Midway
X-LIC-LOCATION:Pacific/Midway
BEGIN:STANDARD
TZOFFSETFROM:-1100
TZOFFSETTO:-1100
TZNAME:SST
DTSTART:19700101T000000
END:STANDARD
END:VTIMEZONE
BEGIN:VEVENT
UID:3646443:Event:112998
DTSTAMP:20260422T025825Z
SUMMARY:Bobcaygeon Fair (OAAS Event)
DESCRIPTION:Please check Event Organizers Website and Social Platforms
  for ongoing details and updates.\r\nFor over 160 years, the Bobcaygeo
 n Fall Fair has been delighting locals and tourists alike. Our fair ha
 ppens on the last week of September each year, welcoming over 5500 
 guests through the gates.\r\n​\r\nFor visitors and exhibitors, ther
 e is much fun to be had - competitions, displays of home craft and ha
 ndicrafts by local talents, music, entertainment, delicious foods, ani
 mals and a midway! Our many dedicated volunteers take pride in making
  sure it is an experience to remember. We hope to see you there!\r\n\n
 \nFor more information visit https://ontag.farms.com/events/bobcaygeon
 -fair-oaas-event
DTSTART;TZID=Pacific/Midway:20230928T083000
DTEND;TZID=Pacific/Midway:20230930T173000
CATEGORIES:fair
LOCATION:Bobcaygeon Agriculture society
WEBSITE:https://www.bobcaygeonfair.com/
URL:https://www.bobcaygeonfair.com/
CONTACT:705-887-2075
ORGANIZER:Ontario Association of Agricultural Societies
ATTACH;FMTTYPE="image/jpeg":https://storage.ning.com/topology/rest/1.0
 /file/get/12157909261?profile=original
ATTENDEE;ROLE=REQ-PARTICIPANT;PARTSTAT=ACCEPTED;RSVP=TRUE;CN="OntAG Ad
 min":https://ontag.farms.com/profile/OntAGAdmin
END:VEVENT
END:VCALENDAR
