BEGIN:VCALENDAR
PRODID:NingEventWidget-v1
VERSION:2.0
METHOD:PUBLISH
BEGIN:VTIMEZONE
TZID:Pacific/Midway
X-LIC-LOCATION:Pacific/Midway
BEGIN:STANDARD
TZOFFSETFROM:-1100
TZOFFSETTO:-1100
TZNAME:SST
DTSTART:19700101T000000
END:STANDARD
END:VTIMEZONE
BEGIN:VEVENT
UID:3646443:Event:35772
DTSTAMP:20260422T144946Z
SUMMARY:Brant SCIA AGM
DESCRIPTION:AGENDA\nRegistration at 8:30 – 9:00 amProgram starts at 
 9:00 am\n\nSPECIAL GUEST SPEAKERA special sneak peek at FarmSmart Conf
 erence speaker Jack Rabin, Associate Director of Farm Programs, Rutger
 s University, New Jersey on \"The future of mid-sized family farms\" a
 nd wildlife crop damage.\n\nALSO ON THE AGENDADave Gordon from London 
 Agricultural Commodities on MarketingHolly Loucas, soybean researcher 
 for Hyland on Pesticides and Soybeans2012 Crop Year in ReviewIan McDon
 ald – Red Clover Trial/Nitrogen Timing study/Raccoon damage studyICA
 T Trials 2012IGPC updateOSCIA Program Representative Update - Pam Char
 ltonGHSCIA RCC Update - Anne Howden ThompsonProvincial Director's Repo
 rt - Marshall DavisForage Masters – Brant County results\n\nCOSTCost
  is $30 per person, includes hot lunch and 2013 BSCIA membership\n\nTR
 ADE SHOWIf your business would like to rent table space for a display 
 at the annual meeting, please contact Tricia Henderson.\nPRINTABLE FLY
 ERAvailable online at www.ghscia.com/coming-events\n\nFOR INFORMATION\
 nTricia Henderson, Brant SCIA SecretaryEmail: tshenderson00@gmail.comP
 hone: 519-448-1000\n\n\nFor more information visit https://ontag.farms
 .com/events/brant-scia-agm
DTSTART;TZID=Pacific/Midway:20130117T083000
DTEND;TZID=Pacific/Midway:20130117T153000
CATEGORIES:agm
LOCATION:South Dumfries Community Centre
WEBSITE:http://www.ghscia.com/coming-events
URL:http://www.ghscia.com/coming-events
CONTACT:
ORGANIZER:Brant SCIA
ATTACH;FMTTYPE="image/jpeg":
ATTENDEE;ROLE=REQ-PARTICIPANT;PARTSTAT=ACCEPTED;RSVP=TRUE;CN="Golden H
 orseshoe SCIA":https://ontag.farms.com/profile/GoldenHorseshoeSCIA
END:VEVENT
END:VCALENDAR
