BEGIN:VCALENDAR
PRODID:NingEventWidget-v1
VERSION:2.0
METHOD:PUBLISH
BEGIN:VTIMEZONE
TZID:Pacific/Midway
X-LIC-LOCATION:Pacific/Midway
BEGIN:STANDARD
TZOFFSETFROM:-1100
TZOFFSETTO:-1100
TZNAME:SST
DTSTART:19700101T000000
END:STANDARD
END:VTIMEZONE
BEGIN:VEVENT
UID:3646443:Event:78407
DTSTAMP:20260421T123011Z
SUMMARY:Bryan's Farm Equipment (Trenton) - Timed Online Auction
DESCRIPTION:Featuring 1750+ Lots\r\nVehicles, Trailers, Turf & Landsca
 pe Equipment, Heavy Trucks, Construction Equipment, Generators, Travel
  Trailers and Fifth Wheels, Quantity of Tools & Parts, Renovation & Bu
 ilding Supplies, Kitchen Cabinet Sets, and much more!\r\nBidding opens
  on Saturday February 8th and Closes on Wednesday February 12th, 2020
 , with items closing/selling continuously throughout the day\n\nFor mo
 re information visit https://ontag.farms.com/events/brayan-s-farm-equi
 pment-trenton-timed-online-auction
DTSTART;TZID=Pacific/Midway:20200307T080000
DTEND;TZID=Pacific/Midway:20200311T170000
CATEGORIES:farm, equipment, auction
LOCATION:Bryan's Farm Equipment
WEBSITE:https://bryansfarm.com/trenton-online-auction.html
URL:https://bryansfarm.com/trenton-online-auction.html
CONTACT:(613) 955-7653
ORGANIZER:Bryan's Farm Equipment
ATTACH;FMTTYPE="image/jpeg":https://storage.ning.com/topology/rest/1.0
 /file/get/3916314585?profile=original
ATTENDEE;ROLE=REQ-PARTICIPANT;PARTSTAT=ACCEPTED;RSVP=TRUE;CN="OntAG Ad
 min":https://ontag.farms.com/profile/OntAGAdmin
END:VEVENT
END:VCALENDAR
