BEGIN:VCALENDAR
PRODID:NingEventWidget-v1
VERSION:2.0
METHOD:PUBLISH
BEGIN:VTIMEZONE
TZID:Pacific/Midway
X-LIC-LOCATION:Pacific/Midway
BEGIN:STANDARD
TZOFFSETFROM:-1100
TZOFFSETTO:-1100
TZNAME:SST
DTSTART:19700101T000000
END:STANDARD
END:VTIMEZONE
BEGIN:VEVENT
UID:3646443:Event:55296
DTSTAMP:20260423T035526Z
SUMMARY:Breakfast on the Farm
DESCRIPTION:\nWhat is Breakfast on the Farm?\n\n\nFamily friendly even
 t that gives visitors a glimpse of what farming is all about.\nTour a 
 farm, see farm animals and farm equipment, talk with farmers and enjoy
  a breakfast featuring Ontario foods.\nEvent runs from 9:00a.m. to 1:0
 0p.m.; breakfast will be served from 9:00a.m. to 11:00a.m.\nEvent is f
 ree to attend but tickets are required.  You can reserve your FREE ti
 cket by clicking here.  No additional tickets will be available at t
 he event.\nEvent will run rain or shine.  Wear comfortable, weather a
 ppropriate clothing and shoes.\nNo pets are permitted.  Service anima
 ls are exempted.\n\n\nWe're looking for volunteers to help us make thi
 s event a success.  To see what's involved, descriptions of volunteer
  opportunities and to sign up please click here.\n\nNOTE: Volunteers 
 do not need to register for a separate breakfast ticket.  Volunteers 
 are included in the count for breakfast.\n\nInterested in partnering o
 r sponsoring the event?  Click here to see the sponsorship opportun
 ities available.\n\n\nFor more information visit https://ontag.farms.c
 om/events/breakfast-on-the-farm-1
DTSTART;TZID=Pacific/Midway:20140802T090000
DTEND;TZID=Pacific/Midway:20140802T130000
CATEGORIES:breakfast, on, the, farm
LOCATION:Stanlee Farms Inc.
WEBSITE:http://www.farmfoodcare.org/farm-a-food-resources/breakfast-on
 -the-farm
URL:http://www.farmfoodcare.org/farm-a-food-resources/breakfast-on-the
 -farm
CONTACT:
ORGANIZER:Farm & Food Care
ATTACH;FMTTYPE="image/jpeg":
ATTENDEE;ROLE=REQ-PARTICIPANT;PARTSTAT=ACCEPTED;RSVP=TRUE;CN="OntAG Ad
 min":https://ontag.farms.com/profile/OntAGAdmin
END:VEVENT
END:VCALENDAR
