BEGIN:VCALENDAR
PRODID:NingEventWidget-v1
VERSION:2.0
METHOD:PUBLISH
BEGIN:VTIMEZONE
TZID:Pacific/Midway
X-LIC-LOCATION:Pacific/Midway
BEGIN:STANDARD
TZOFFSETFROM:-1100
TZOFFSETTO:-1100
TZNAME:SST
DTSTART:19700101T000000
END:STANDARD
END:VTIMEZONE
BEGIN:VEVENT
UID:3646443:Event:112678
DTSTAMP:20260420T164535Z
SUMMARY:Breakfast on the Farm
DESCRIPTION:Enjoy breakfast on the farm and experience a tour of a dai
 ry farm.  The MacLean family is welcoming the public to their dairy f
 arm, Ripplebrook Farm. \r\n \r\nTickets are a $5 deposit per person,
  returned after attendance. Each ticket includes one breakfast sandwic
 h, milk and fruit. Dairy-free, gluten-free and vegetarian options are 
 available.  Visit Farm and Food Care for tickets and more information
 .\n\nFor more information visit https://ontag.farms.com/events/breakfa
 st-on-the-farm-2
DTSTART;TZID=Pacific/Midway:20230619T180000
DTEND;TZID=Pacific/Midway:20230619T190000
CATEGORIES:farm, tour
LOCATION:Ripplebrook Farm
WEBSITE:https://www.farmfoodcareon.org/breakfastonthefarm-napanee/
URL:https://www.farmfoodcareon.org/breakfastonthefarm-napanee/
CONTACT:
ORGANIZER;CN="OntAG Admin":https://ontag.farms.com/profile/OntAGAdmin
ATTACH;FMTTYPE="image/jpeg":
ATTENDEE;ROLE=REQ-PARTICIPANT;PARTSTAT=ACCEPTED;RSVP=TRUE;CN="OntAG Ad
 min":https://ontag.farms.com/profile/OntAGAdmin
END:VEVENT
END:VCALENDAR
