BEGIN:VCALENDAR
PRODID:NingEventWidget-v1
VERSION:2.0
METHOD:PUBLISH
BEGIN:VTIMEZONE
TZID:Pacific/Midway
X-LIC-LOCATION:Pacific/Midway
BEGIN:STANDARD
TZOFFSETFROM:-1100
TZOFFSETTO:-1100
TZNAME:SST
DTSTART:19700101T000000
END:STANDARD
END:VTIMEZONE
BEGIN:VEVENT
UID:3646443:Event:61795
DTSTAMP:20260420T184122Z
SUMMARY:Breakfast on the Farm September 20
DESCRIPTION:Celebrating Ontario food and farming with Breakfast on the
  Farm Come for some great food and the chance to have all your farm qu
 estions answered by Ontario’s farmers.\n \n(Tecumseh) On September 
 20, 2015, Breakfast on the Farm will be hosted at Hylander Farms in Te
 cumseh. It will be the third Breakfast on the Farm since 2013, and so 
 far, over 6000 people have been fed, entertained and engaged at the ev
 ent.\n \nBreakfast on the Farm provides a unique opportunity for farm
 ers and non‐farming Ontarians to have a conversation about food and 
 farming. It gives Ontarians the chance to visit a real, working farm, 
 provides a showcase for agriculture and gives non-farmers the opportun
 ity to have their questions answered by real farmers. After being trea
 ted to an all-Ontario breakfast featuring eggs, pancakes, sausage and 
 more, visitors will be able to see beef cattle and farm machinery, and
  will have the opportunity to have their questions answered by helpful
  farm experts. Interactive stops around the farm will include many dis
 plays, activities and exhibits that showcase other types of farms in O
 ntario. Hylander Farms is a veal, beef and grain farm owned and operat
 ed by Brian Hyland, his wife Rina, son Matthew, and parents Walter and
  Muriel. Their beef cattle are raised for local buyers of all kinds. T
 he event will run from 9:00 am until 1:00 pm, with breakfast being ser
 ved until 11:30 a.m. The farm tours wrap up by 1:00 p.m. It is a free 
 event, though preregistration is required; the first 2,000 visitors ar
 e guaranteed breakfast.\n For further information: \nSue McLarty, Farm
  & Food Care Special Events Manager, sue@farmfoodcare.org; 519-401-628
 1 \nBrian Hyland, Breakfast on the Farm host farmer, Hylanderfarms@xp
 lornet.com; 519-259-3027 \n\n\n\nFor more information visit https://o
 ntag.farms.com/events/breakfast-on-the-farm-september-20
DTSTART;TZID=Pacific/Midway:20150920T090000
DTEND;TZID=Pacific/Midway:20150920T130000
CATEGORIES:breakfast
LOCATION:Hylander Farms - 7325
WEBSITE:http://www.farmfoodcare.org
URL:http://www.farmfoodcare.org
CONTACT:
ORGANIZER;CN="OntAG Admin":https://ontag.farms.com/profile/OntAGAdmin
ATTACH;FMTTYPE="image/jpeg":
ATTENDEE;ROLE=REQ-PARTICIPANT;PARTSTAT=ACCEPTED;RSVP=TRUE;CN="OntAG Ad
 min":https://ontag.farms.com/profile/OntAGAdmin
END:VEVENT
END:VCALENDAR
