BEGIN:VCALENDAR
PRODID:NingEventWidget-v1
VERSION:2.0
METHOD:PUBLISH
BEGIN:VTIMEZONE
TZID:Pacific/Midway
X-LIC-LOCATION:Pacific/Midway
BEGIN:STANDARD
TZOFFSETFROM:-1100
TZOFFSETTO:-1100
TZNAME:SST
DTSTART:19700101T000000
END:STANDARD
END:VTIMEZONE
BEGIN:VEVENT
UID:3646443:Event:110185
DTSTAMP:20260420T090308Z
SUMMARY:Brindley 2 Day Online Antique Auction Sale Aug 24 & 25
DESCRIPTION:\n\nFor more information visit https://ontag.farms.com/eve
 nts/brindley-2-day-online-antique-auction-sale-aug-24-25
DTSTART;TZID=Pacific/Midway:20220824T090000
DTEND;TZID=Pacific/Midway:20220825T170000
CATEGORIES:auction, sale
LOCATION:Base Equipment
WEBSITE:https://www.theauctionadvertiser.com/cgi-bin/nslsearcx.pl?s1=2
 0220824
URL:https://www.theauctionadvertiser.com/cgi-bin/nslsearcx.pl?s1=20220
 824
CONTACT:519-529-7625
ORGANIZER:Brindley Auction Services
ATTACH;FMTTYPE="image/jpeg":https://storage.ning.com/topology/rest/1.0
 /file/get/10656542891?profile=original
ATTENDEE;ROLE=REQ-PARTICIPANT;PARTSTAT=ACCEPTED;RSVP=TRUE;CN="OntAG Ad
 min":https://ontag.farms.com/profile/OntAGAdmin
END:VEVENT
END:VCALENDAR
