BEGIN:VCALENDAR
PRODID:NingEventWidget-v1
VERSION:2.0
METHOD:PUBLISH
BEGIN:VTIMEZONE
TZID:Pacific/Midway
X-LIC-LOCATION:Pacific/Midway
BEGIN:STANDARD
TZOFFSETFROM:-1100
TZOFFSETTO:-1100
TZNAME:SST
DTSTART:19700101T000000
END:STANDARD
END:VTIMEZONE
BEGIN:VEVENT
UID:3646443:Event:1430
DTSTAMP:20260421T141053Z
SUMMARY:Bring Food Home: Connecting Ontario Food and Farm Networks
DESCRIPTION:The conference will bring together a broad range of partic
 ipants from diverse regions and sectors, including farmers, food enter
 prises, health promoters, community groups and government organization
 s. The purpose of this gathering is to facilitate our learning and wor
 king together to create food systems that are healthy, just, accessibl
 e, culturally appropriate, financially viable and sustainable.\n\nThe 
 Conference has been organized into the following streams:\n· Training
  for Emerging Farmers\n· Community Food Security\n· Strengthening Re
 gional Economies\n· Sustaining Food Production – Farm, City and Cou
 ntryside\n\nTo date we have confirmed Joel Salatin of Polyface Farm an
 d of Food, Inc. fame as one of several keynote speakers, as well as Ma
 rtin Gooch from the George Morris Centre who will lead a workshop in v
 alue chain management. The FarmOn Alliance is planning a whole day of 
 events related to new farmer training.\n\nFor more information visit h
 ttps://ontag.farms.com/events/bring-food-home-connecting
DTSTART;TZID=Pacific/Midway:20100304T000000
DTEND;TZID=Pacific/Midway:20100306T235900
CATEGORIES:conference
LOCATION:Kitchener Delta
WEBSITE:http://sustainontario.com/initiatives/bring-food-home-2010-con
 ference
URL:http://sustainontario.com/initiatives/bring-food-home-2010-confere
 nce
CONTACT:
ORGANIZER;CN="Lauren Baker":https://ontag.farms.com/profile/LaurenBake
 r
ATTACH;FMTTYPE="image/jpeg":
ATTENDEE;ROLE=REQ-PARTICIPANT;PARTSTAT=ACCEPTED;RSVP=TRUE;CN="Lauren B
 aker":https://ontag.farms.com/profile/LaurenBaker
END:VEVENT
END:VCALENDAR
