BEGIN:VCALENDAR
PRODID:NingEventWidget-v1
VERSION:2.0
METHOD:PUBLISH
BEGIN:VTIMEZONE
TZID:Pacific/Midway
X-LIC-LOCATION:Pacific/Midway
BEGIN:STANDARD
TZOFFSETFROM:-1100
TZOFFSETTO:-1100
TZNAME:SST
DTSTART:19700101T000000
END:STANDARD
END:VTIMEZONE
BEGIN:VEVENT
UID:3646443:Event:78625
DTSTAMP:20260421T084633Z
SUMMARY:Brooklin Spring Fair: June 4 - 7, 2020
DESCRIPTION:The Brooklin Agricultural Society is a Not for Profit volu
 nteer organization which operates and organizes the annual Brooklin Sp
 ring Fair. The Brooklin Spring Fair celebrated its 100th Anniversary i
 n June 2011.\r\nCome and Explore Farming in the 21st Century – visit
  Agri-land!Agri-land Features:\r\nLocal Agricultural & Farm Fresh Prod
 uct DisplaysFarm Equipment DisplaysFarrier CompetitionsEquestrian Comp
 etitionsCattle, sheep, poultry and goat showsMiniature horse show, spo
 rtpony show/youth equestrian show, light and heavy horse showRabbit sh
 ow4-H shows and much more!Hours of Admittance:Thursday June 4th – 4:
 00PM – 7:30PMFriday June 5th – 1:00PM – 7:00PM**(Open at 9:00AM 
 for Education day invitees only)Saturday June 6th – 10:00AM – 7:00
 PMSunday June 7th – 10:00AM – 5:00PM\r\nClick HERE to register onl
 ine\n\nFor more information visit https://ontag.farms.com/events/brook
 lin-spring-fair-june-4-7-2020
DTSTART;TZID=Pacific/Midway:20200604T160000
DTEND;TZID=Pacific/Midway:20200607T220000
CATEGORIES:agriculture, fair
LOCATION:Luther Vipond Arena
WEBSITE:http://www.brooklinspringfair.com/fair/agriculture/
URL:http://www.brooklinspringfair.com/fair/agriculture/
CONTACT:905-655-7093
ORGANIZER:Focus Fire Protection Inc.
ATTACH;FMTTYPE="image/jpeg":
ATTENDEE;ROLE=REQ-PARTICIPANT;PARTSTAT=ACCEPTED;RSVP=TRUE;CN="OntAG Ad
 min":https://ontag.farms.com/profile/OntAGAdmin
END:VEVENT
END:VCALENDAR
