BEGIN:VCALENDAR
PRODID:NingEventWidget-v1
VERSION:2.0
METHOD:PUBLISH
BEGIN:VTIMEZONE
TZID:Pacific/Midway
X-LIC-LOCATION:Pacific/Midway
BEGIN:STANDARD
TZOFFSETFROM:-1100
TZOFFSETTO:-1100
TZNAME:SST
DTSTART:19700101T000000
END:STANDARD
END:VTIMEZONE
BEGIN:VEVENT
UID:3646443:Event:56519
DTSTAMP:20260421T084640Z
SUMMARY:Bruce County Plowing Match August 29, 2014
DESCRIPTION:Bruce County Plowing Match\nThe 2014 Bruce County Plowing
  Match will be held Friday, August 29, 2014 on the farm of Rick & Mik
 e Smith and family at the corner of Bruce County Road 7 and Huron-Kinl
 oss Concession 6 South of Ripley.\nQueen of Furrow Plowing at 9amSpeec
 hes & Beef BBQ at noonFree Practice Day - Thursday August 28- All Day!
 Junior Plowing Match/Judged Practice Day - Sunday August 24 starting 1
 pm\n\nContact the secretary 519-395-5248\njgilles@hurontel.on.ca\n\n\n
 For more information visit https://ontag.farms.com/events/bruce-county
 -plowing-match-august-29-2014
DTSTART;TZID=Pacific/Midway:20140829T000000
DTEND;TZID=Pacific/Midway:20140829T235900
CATEGORIES:plowing, match
LOCATION:farm of Rick & Mike Smith and famil
WEBSITE:http://www.brucecountyplowmen.ca/
URL:http://www.brucecountyplowmen.ca/
CONTACT:
ORGANIZER:Bruce County Plowmen
ATTACH;FMTTYPE="image/jpeg":
ATTENDEE;ROLE=REQ-PARTICIPANT;PARTSTAT=ACCEPTED;RSVP=TRUE;CN="OntAG Ad
 min":https://ontag.farms.com/profile/OntAGAdmin
END:VEVENT
END:VCALENDAR
