BEGIN:VCALENDAR
PRODID:NingEventWidget-v1
VERSION:2.0
METHOD:PUBLISH
BEGIN:VTIMEZONE
TZID:Pacific/Midway
X-LIC-LOCATION:Pacific/Midway
BEGIN:STANDARD
TZOFFSETFROM:-1100
TZOFFSETTO:-1100
TZNAME:SST
DTSTART:19700101T000000
END:STANDARD
END:VTIMEZONE
BEGIN:VEVENT
UID:3646443:Event:35432
DTSTAMP:20260425T015421Z
SUMMARY:Bruce SCIA Annual Meeting
DESCRIPTION:By Dec 4 to confirm your attendance  Guest Speakers: OSCIA
  Update, Les Nichols; Crops Update, Brian Hall OMAFRA  Environmental F
 arm Plan update, Jayne Dietrich; \"Poop to Power\" Information on Dige
 sters, Carl Frook; \"Irrigation in Ontario\" Paul Van den Borre\n\nFor
  more information visit https://ontag.farms.com/events/bruce-scia-annu
 al-meeting
DTSTART;TZID=Pacific/Midway:20121206T000000
DTEND;TZID=Pacific/Midway:20121206T235900
CATEGORIES:meeting
LOCATION:Paisley Community Center, Ontario
WEBSITE:
URL:
CONTACT:519-357-8898
ORGANIZER;CN="OntAG Admin":https://ontag.farms.com/profile/OntAGAdmin
ATTACH;FMTTYPE="image/jpeg":
ATTENDEE;ROLE=REQ-PARTICIPANT;PARTSTAT=ACCEPTED;RSVP=TRUE;CN="OntAG Ad
 min":https://ontag.farms.com/profile/OntAGAdmin
END:VEVENT
END:VCALENDAR
