BEGIN:VCALENDAR
PRODID:NingEventWidget-v1
VERSION:2.0
METHOD:PUBLISH
BEGIN:VTIMEZONE
TZID:Pacific/Midway
X-LIC-LOCATION:Pacific/Midway
BEGIN:STANDARD
TZOFFSETFROM:-1100
TZOFFSETTO:-1100
TZNAME:SST
DTSTART:19700101T000000
END:STANDARD
END:VTIMEZONE
BEGIN:VEVENT
UID:3646443:Event:112973
DTSTAMP:20260422T040404Z
SUMMARY:Brussels Agri Services Ltd. Pasture Walk and Talk
DESCRIPTION:Pasture season is here! The grass is lush and growing! Our
  event is sure to get you excited for pasture season! We are thrilled 
 to invite you to our Annual Pasture Walk and Talk 2023.Our annual Past
 ure Walk and Talk takes place Wednesday June 7th, 2023. A delicious No
 rpac Steak on a bun dinner will be served starting at 5pm with Pasture
  Walk and Talk to follow.We are excited to welcome our guest speaker, 
 Dr. Katie Wood, from the University of Guelph. Katie will focus on cap
 turing carbon by rotational grazing. We also have 5 great stations wit
 h tons of information to integrate into your grazing programs. We will
  have special pricing on some selected grazing tools.As always, there 
 is NO CHARGE for this event, but we would ask that you please RSVP by 
 June 2, 2023 to reach us on the phone please call 1-877-887-9391 or em
 ail us at tim@brusselsagri.com\n\nFor more information visit https://
 ontag.farms.com/events/brussels-agri-services-ltd-pasture-walk-and-tal
 k
DTSTART;TZID=Pacific/Midway:20230607T170000
DTEND;TZID=Pacific/Midway:20230607T210000
CATEGORIES:walk, and, talk
LOCATION:Grazing Meadows Wagyu,
WEBSITE:https://allevents.in/clinton/brussels-agri-services-ltd-pastur
 e-walk-and-talk/200024663013537
URL:https://allevents.in/clinton/brussels-agri-services-ltd-pasture-wa
 lk-and-talk/200024663013537
CONTACT:1-877-887-9391
ORGANIZER:Brussels Agri Services Ltd.
ATTACH;FMTTYPE="image/jpeg":https://storage.ning.com/topology/rest/1.0
 /file/get/11173230458?profile=original
ATTENDEE;ROLE=REQ-PARTICIPANT;PARTSTAT=ACCEPTED;RSVP=TRUE;CN="OntAG Ad
 min":https://ontag.farms.com/profile/OntAGAdmin
END:VEVENT
END:VCALENDAR
