BEGIN:VCALENDAR
PRODID:NingEventWidget-v1
VERSION:2.0
METHOD:PUBLISH
BEGIN:VTIMEZONE
TZID:Pacific/Midway
X-LIC-LOCATION:Pacific/Midway
BEGIN:STANDARD
TZOFFSETFROM:-1100
TZOFFSETTO:-1100
TZNAME:SST
DTSTART:19700101T000000
END:STANDARD
END:VTIMEZONE
BEGIN:VEVENT
UID:3646443:Event:78711
DTSTAMP:20260421T074947Z
SUMMARY:Cancelled - Bryan's Farm Equipment (Puslinch) - Timed Online A
 uction
DESCRIPTION:This Auction has been Cancelled\r\n\n\nFor more informatio
 n visit https://ontag.farms.com/events/bryan-s-farm-equipment-puslinch
 -timed-online-auction
DTSTART;TZID=Pacific/Midway:20200321T080000
DTEND;TZID=Pacific/Midway:20200325T170000
CATEGORIES:farm, equipment, auction
LOCATION:BRYAN’S FARM EQUIPMENT (PUSLINCH)
WEBSITE:https://bryansfarm.com/index.html
URL:https://bryansfarm.com/index.html
CONTACT:(519) 837-0710
ORGANIZER:BRYAN’S FARM EQUIPMENT
ATTACH;FMTTYPE="image/jpeg":https://storage.ning.com/topology/rest/1.0
 /file/get/3916314585?profile=original
ATTENDEE;ROLE=REQ-PARTICIPANT;PARTSTAT=ACCEPTED;RSVP=TRUE;CN="OntAG Ad
 min":https://ontag.farms.com/profile/OntAGAdmin
END:VEVENT
END:VCALENDAR
